<?xml version="1.0" encoding="UTF-8" standalone="no"?>
<metadata xml:lang="en">
<Esri>
<CreaDate>20181115</CreaDate>
<CreaTime>13095700</CreaTime>
<ArcGISFormat>1.0</ArcGISFormat>
<ArcGISstyle>FGDC CSDGM Metadata</ArcGISstyle>
<SyncOnce>FALSE</SyncOnce>
<DataProperties>
<lineage>
<Process Date="20181115" Time="130957" ToolSource="c:\program files (x86)\arcgis\desktop10.5\ArcToolbox\Toolboxes\Data Management Tools.tbx\CreateReferencedMosaicDataset">CreateReferencedMosaicDataset \\nyx-galli\eGIS\Data\Raster\Elevation\LiDAR\Derived_Mosaics.gdb\D_All_LiDAR_BE \\nyx-galli\eGIS\Data\Raster\Elevation\LiDAR\Derived_Mosaics.gdb\R_All_LiDAR_BE "PROJCS['NAD_1983_CSRS_UTM_Zone_13N',GEOGCS['GCS_North_American_1983_CSRS',DATUM['D_North_American_1983_CSRS',SPHEROID['GRS_1980',6378137.0,298.257222101]],PRIMEM['Greenwich',0.0],UNIT['Degree',0.0174532925199433]],PROJECTION['Transverse_Mercator'],PARAMETER['False_Easting',500000.0],PARAMETER['False_Northing',0.0],PARAMETER['Central_Meridian',-105.0],PARAMETER['Scale_Factor',0.9996],PARAMETER['Latitude_Of_Origin',0.0],UNIT['Meter',1.0]];-5120900 -9998100 10000;-100000 10000;-100000 10000;0.001;0.001;0.001;IsHighPrecision" # # # # # SELECT_USING_FEATURES # # # # BUILD_BOUNDARY</Process>
<Process Date="20181115" Time="132436" ToolSource="c:\program files (x86)\arcgis\desktop10.5\ArcToolbox\Toolboxes\Data Management Tools.tbx\AnalyzeMosaicDataset">AnalyzeMosaicDataset \\nyx-galli\eGIS\Data\Raster\Elevation\LiDAR\Derived_Mosaics.gdb\R_All_LiDAR_BE # FOOTPRINT;FUNCTION;RASTER;PATHS</Process>
<Process Date="20181204" Time="174856" ToolSource="c:\program files (x86)\arcgis\desktop10.5\ArcToolbox\Toolboxes\Data Management Tools.tbx\AnalyzeMosaicDataset">AnalyzeMosaicDataset \\nyx-galli\eGIS\Data\Raster\Elevation\LiDAR\Derived_Mosaics.gdb\R_All_LiDAR_BE # FOOTPRINT;FUNCTION;RASTER;PATHS</Process>
<Process Date="20181210" Time="142058" ToolSource="c:\program files (x86)\arcgis\desktop10.5\ArcToolbox\Toolboxes\Data Management Tools.tbx\CalculateStatistics">CalculateStatistics \\nyx-galli\eGIS\Data\Raster\Elevation\LiDAR\Derived_Mosaics.gdb\R_All_LiDAR_BE 100 100 # OVERWRITE "Feature Set"</Process>
<Process Date="20181210" Time="142116" ToolSource="c:\program files (x86)\arcgis\desktop10.5\ArcToolbox\Toolboxes\Data Management Tools.tbx\AnalyzeMosaicDataset">AnalyzeMosaicDataset \\nyx-galli\eGIS\Data\Raster\Elevation\LiDAR\Derived_Mosaics.gdb\R_All_LiDAR_BE # FOOTPRINT;FUNCTION;RASTER;PATHS</Process>
<Process Date="20190330" Time="130910" ToolSource="c:\program files (x86)\arcgis\desktop10.6\ArcToolbox\Toolboxes\Data Management Tools.tbx\BuildBoundary">BuildBoundary \\nyx-galli\eGIS\Data\Raster\Elevation\LiDAR\Derived_Mosaics.gdb\R_All_LiDAR_BE # OVERWRITE NONE</Process>
<Process Date="20190401" Time="142200" ToolSource="c:\program files (x86)\arcgis\desktop10.6\ArcToolbox\Toolboxes\Data Management Tools.tbx\CalculateStatistics">CalculateStatistics \\nyx-galli\eGIS\Data\Raster\Elevation\LiDAR\Derived_Mosaics.gdb\R_All_LiDAR_BE 100 100 # OVERWRITE "Feature Set"</Process>
<Process Date="20190401" Time="142445" ToolSource="c:\program files (x86)\arcgis\desktop10.6\ArcToolbox\Toolboxes\Data Management Tools.tbx\BuildBoundary">BuildBoundary \\nyx-galli\eGIS\Data\Raster\Elevation\LiDAR\Derived_Mosaics.gdb\R_All_LiDAR_BE # APPEND ENVELOPE</Process>
<Process Date="20190401" Time="150043" ToolSource="c:\program files (x86)\arcgis\desktop10.6\ArcToolbox\Toolboxes\Data Management Tools.tbx\AnalyzeMosaicDataset">AnalyzeMosaicDataset \\nyx-galli\eGIS\Data\Raster\Elevation\LiDAR\Derived_Mosaics.gdb\R_All_LiDAR_BE # FOOTPRINT;FUNCTION;RASTER;PATHS</Process>
<Process Date="20190401" Time="151003" ToolSource="c:\program files (x86)\arcgis\desktop10.6\ArcToolbox\Toolboxes\Data Management Tools.tbx\BuildBoundary">BuildBoundary \\nyx-galli\eGIS\Data\Raster\Elevation\LiDAR\Derived_Mosaics.gdb\R_All_LiDAR_BE # APPEND ENVELOPE</Process>
<Process Date="20190401" Time="152804" ToolSource="c:\program files (x86)\arcgis\desktop10.6\ArcToolbox\Toolboxes\Data Management Tools.tbx\BuildBoundary">BuildBoundary \\nyx-galli\eGIS\Data\Raster\Elevation\LiDAR\Derived_Mosaics.gdb\R_All_LiDAR_BE # APPEND ENVELOPE</Process>
<Process Date="20190401" Time="152828" ToolSource="c:\program files (x86)\arcgis\desktop10.6\ArcToolbox\Toolboxes\Data Management Tools.tbx\AnalyzeMosaicDataset">AnalyzeMosaicDataset \\nyx-galli\eGIS\Data\Raster\Elevation\LiDAR\Derived_Mosaics.gdb\R_All_LiDAR_BE # FOOTPRINT;FUNCTION;RASTER;PATHS</Process>
<Process Date="20190401" Time="153334" ToolSource="c:\program files (x86)\arcgis\desktop10.6\ArcToolbox\Toolboxes\Data Management Tools.tbx\CalculateStatistics">CalculateStatistics \\nyx-galli\eGIS\Data\Raster\Elevation\LiDAR\Derived_Mosaics.gdb\R_All_LiDAR_BE 100 100 # OVERWRITE "Feature Set"</Process>
<Process Date="20190401" Time="153449" ToolSource="c:\program files (x86)\arcgis\desktop10.6\ArcToolbox\Toolboxes\Data Management Tools.tbx\AnalyzeMosaicDataset">AnalyzeMosaicDataset \\nyx-galli\eGIS\Data\Raster\Elevation\LiDAR\Derived_Mosaics.gdb\R_All_LiDAR_BE # FOOTPRINT;FUNCTION;RASTER;PATHS</Process>
<Process Date="20190401" Time="163138" ToolSource="c:\program files (x86)\arcgis\desktop10.6\ArcToolbox\Toolboxes\Data Management Tools.tbx\CalculateStatistics">CalculateStatistics \\nyx-galli\eGIS\Data\Raster\Elevation\LiDAR\Derived_Mosaics.gdb\R_All_LiDAR_BE 100 100 # OVERWRITE "Feature Set"</Process>
<Process Date="20190401" Time="163210" ToolSource="c:\program files (x86)\arcgis\desktop10.6\ArcToolbox\Toolboxes\Data Management Tools.tbx\AnalyzeMosaicDataset">AnalyzeMosaicDataset \\nyx-galli\eGIS\Data\Raster\Elevation\LiDAR\Derived_Mosaics.gdb\R_All_LiDAR_BE # FOOTPRINT;FUNCTION;RASTER;PATHS</Process>
<Process Date="20190403" Time="093926" ToolSource="c:\program files (x86)\arcgis\desktop10.6\ArcToolbox\Toolboxes\Data Management Tools.tbx\CalculateStatistics">CalculateStatistics \\nyx-galli\eGIS\Data\Raster\Elevation\LiDAR\Derived_Mosaics.gdb\R_All_LiDAR_BE 100 100 # OVERWRITE "Feature Set"</Process>
<Process Date="20190403" Time="094207" ToolSource="c:\program files (x86)\arcgis\desktop10.6\ArcToolbox\Toolboxes\Data Management Tools.tbx\CalculateStatistics">CalculateStatistics \\nyx-galli\eGIS\Data\Raster\Elevation\LiDAR\Derived_Mosaics.gdb\R_All_LiDAR_BE 100 100 # OVERWRITE "Feature Set"</Process>
<Process Date="20190403" Time="094319" ToolSource="c:\program files (x86)\arcgis\desktop10.6\ArcToolbox\Toolboxes\Data Management Tools.tbx\AnalyzeMosaicDataset">AnalyzeMosaicDataset \\nyx-galli\eGIS\Data\Raster\Elevation\LiDAR\Derived_Mosaics.gdb\R_All_LiDAR_BE # FOOTPRINT;FUNCTION;RASTER;PATHS</Process>
<Process Date="20190403" Time="101009" ToolSource="c:\program files (x86)\arcgis\desktop10.6\ArcToolbox\Toolboxes\Data Management Tools.tbx\CalculateStatistics">CalculateStatistics \\nyx-galli\eGIS\Data\Raster\Elevation\LiDAR\Derived_Mosaics.gdb\R_All_LiDAR_BE 100 100 # OVERWRITE "Feature Set"</Process>
<Process Date="20190403" Time="101036" ToolSource="c:\program files (x86)\arcgis\desktop10.6\ArcToolbox\Toolboxes\Data Management Tools.tbx\BuildBoundary">BuildBoundary \\nyx-galli\eGIS\Data\Raster\Elevation\LiDAR\Derived_Mosaics.gdb\R_All_LiDAR_BE # APPEND ENVELOPE</Process>
<Process Date="20190403" Time="101335" ToolSource="c:\program files (x86)\arcgis\desktop10.6\ArcToolbox\Toolboxes\Data Management Tools.tbx\AnalyzeMosaicDataset">AnalyzeMosaicDataset \\nyx-galli\eGIS\Data\Raster\Elevation\LiDAR\Derived_Mosaics.gdb\R_All_LiDAR_BE # FOOTPRINT;FUNCTION;RASTER;PATHS</Process>
<Process Date="20190403" Time="101836" ToolSource="c:\program files (x86)\arcgis\desktop10.6\ArcToolbox\Toolboxes\Data Management Tools.tbx\CalculateStatistics">CalculateStatistics \\nyx-galli\eGIS\Data\Raster\Elevation\LiDAR\Derived_Mosaics.gdb\R_All_LiDAR_BE 100 100 # OVERWRITE "Feature Set"</Process>
<Process Date="20190403" Time="101928" ToolSource="c:\program files (x86)\arcgis\desktop10.6\ArcToolbox\Toolboxes\Data Management Tools.tbx\BuildBoundary">BuildBoundary \\nyx-galli\eGIS\Data\Raster\Elevation\LiDAR\Derived_Mosaics.gdb\R_All_LiDAR_BE # APPEND ENVELOPE</Process>
<Process Date="20190403" Time="102027" ToolSource="c:\program files (x86)\arcgis\desktop10.6\ArcToolbox\Toolboxes\Data Management Tools.tbx\CalculateStatistics">CalculateStatistics \\nyx-galli\eGIS\Data\Raster\Elevation\LiDAR\Derived_Mosaics.gdb\R_All_LiDAR_BE 100 100 # OVERWRITE "Feature Set"</Process>
<Process Date="20190403" Time="103034" ToolSource="c:\program files (x86)\arcgis\desktop10.6\ArcToolbox\Toolboxes\Data Management Tools.tbx\AnalyzeMosaicDataset">AnalyzeMosaicDataset \\nyx-galli\eGIS\Data\Raster\Elevation\LiDAR\Derived_Mosaics.gdb\R_All_LiDAR_BE # FOOTPRINT;FUNCTION;RASTER;PATHS</Process>
<Process Date="20190403" Time="103753" ToolSource="c:\program files (x86)\arcgis\desktop10.6\ArcToolbox\Toolboxes\Data Management Tools.tbx\BuildBoundary">BuildBoundary \\nyx-galli\eGIS\Data\Raster\Elevation\LiDAR\Derived_Mosaics.gdb\R_All_LiDAR_BE # APPEND NONE</Process>
<Process Date="20190403" Time="103833" ToolSource="c:\program files (x86)\arcgis\desktop10.6\ArcToolbox\Toolboxes\Data Management Tools.tbx\CalculateStatistics">CalculateStatistics \\nyx-galli\eGIS\Data\Raster\Elevation\LiDAR\Derived_Mosaics.gdb\R_All_LiDAR_BE 100 100 # OVERWRITE "Feature Set"</Process>
<Process Date="20190403" Time="103956" ToolSource="c:\program files (x86)\arcgis\desktop10.6\ArcToolbox\Toolboxes\Data Management Tools.tbx\AnalyzeMosaicDataset">AnalyzeMosaicDataset \\nyx-galli\eGIS\Data\Raster\Elevation\LiDAR\Derived_Mosaics.gdb\R_All_LiDAR_BE # FOOTPRINT;FUNCTION;RASTER;PATHS</Process>
</lineage>
<itemProps>
<itemName Sync="TRUE">R_All_LiDAR_BE</itemName>
<itemLocation>
<linkage Sync="TRUE">file://\\nyx-galli\eGIS\Data\Raster\Elevation\LiDAR\Derived_Mosaics.gdb</linkage>
<protocol Sync="TRUE">Local Area Network</protocol>
</itemLocation>
<nativeExtBox>
<westBL Sync="TRUE">181084.844100</westBL>
<eastBL Sync="TRUE">234808.344100</eastBL>
<southBL Sync="TRUE">5435461.908100</southBL>
<northBL Sync="TRUE">5635689.908100</northBL>
<exTypeCode Sync="TRUE">1</exTypeCode>
</nativeExtBox>
</itemProps>
<coordRef>
<type Sync="TRUE">Projected</type>
<geogcsn Sync="TRUE">GCS_North_American_1983_CSRS</geogcsn>
<csUnits Sync="TRUE">Linear Unit: Meter (1.000000)</csUnits>
<projcsn Sync="TRUE">NAD_1983_CSRS_UTM_Zone_13N</projcsn>
<peXml Sync="TRUE">&lt;ProjectedCoordinateSystem xsi:type='typens:ProjectedCoordinateSystem' xmlns:xsi='http://www.w3.org/2001/XMLSchema-instance' xmlns:xs='http://www.w3.org/2001/XMLSchema' xmlns:typens='http://www.esri.com/schemas/ArcGIS/10.6'&gt;&lt;WKT&gt;PROJCS[&amp;quot;NAD_1983_CSRS_UTM_Zone_13N&amp;quot;,GEOGCS[&amp;quot;GCS_North_American_1983_CSRS&amp;quot;,DATUM[&amp;quot;D_North_American_1983_CSRS&amp;quot;,SPHEROID[&amp;quot;GRS_1980&amp;quot;,6378137.0,298.257222101]],PRIMEM[&amp;quot;Greenwich&amp;quot;,0.0],UNIT[&amp;quot;Degree&amp;quot;,0.0174532925199433]],PROJECTION[&amp;quot;Transverse_Mercator&amp;quot;],PARAMETER[&amp;quot;False_Easting&amp;quot;,500000.0],PARAMETER[&amp;quot;False_Northing&amp;quot;,0.0],PARAMETER[&amp;quot;Central_Meridian&amp;quot;,-105.0],PARAMETER[&amp;quot;Scale_Factor&amp;quot;,0.9996],PARAMETER[&amp;quot;Latitude_Of_Origin&amp;quot;,0.0],UNIT[&amp;quot;Meter&amp;quot;,1.0],AUTHORITY[&amp;quot;EPSG&amp;quot;,2957]]&lt;/WKT&gt;&lt;XOrigin&gt;-5120900&lt;/XOrigin&gt;&lt;YOrigin&gt;-9998100&lt;/YOrigin&gt;&lt;XYScale&gt;450445547.3910538&lt;/XYScale&gt;&lt;ZOrigin&gt;-100000&lt;/ZOrigin&gt;&lt;ZScale&gt;10000&lt;/ZScale&gt;&lt;MOrigin&gt;-100000&lt;/MOrigin&gt;&lt;MScale&gt;10000&lt;/MScale&gt;&lt;XYTolerance&gt;0.001&lt;/XYTolerance&gt;&lt;ZTolerance&gt;0.001&lt;/ZTolerance&gt;&lt;MTolerance&gt;0.001&lt;/MTolerance&gt;&lt;HighPrecision&gt;true&lt;/HighPrecision&gt;&lt;WKID&gt;2151&lt;/WKID&gt;&lt;LatestWKID&gt;2957&lt;/LatestWKID&gt;&lt;/ProjectedCoordinateSystem&gt;</peXml>
</coordRef>
<RasterProperties>
<General>
<PixelDepth Sync="TRUE">32</PixelDepth>
<HasColormap Sync="TRUE">FALSE</HasColormap>
<CompressionType Sync="TRUE">None</CompressionType>
<NumBands Sync="TRUE">1</NumBands>
<Format Sync="TRUE">AMD</Format>
<HasPyramids Sync="TRUE">TRUE</HasPyramids>
<SourceType Sync="TRUE">continuous</SourceType>
<PixelType Sync="TRUE">floating point</PixelType>
<NoDataValue Sync="TRUE"/>
</General>
<Properties>
<MaxImageHeight Sync="TRUE">4100</MaxImageHeight>
<MaxImageWidth Sync="TRUE">15000</MaxImageWidth>
<MaxRecordCount Sync="TRUE">1000</MaxRecordCount>
<MaxDownloadImageCount Sync="TRUE">0</MaxDownloadImageCount>
<MaxDownloadSizeLimit Sync="TRUE">0</MaxDownloadSizeLimit>
<MaxMosaicImageCount Sync="TRUE">20</MaxMosaicImageCount>
<DefaultCompressionQuality Sync="TRUE">75</DefaultCompressionQuality>
<DefaultCompressionTolerance Sync="TRUE">0.01</DefaultCompressionTolerance>
<BlendWidth Sync="TRUE">10</BlendWidth>
<ViewpointSpacingX Sync="TRUE">600</ViewpointSpacingX>
<ViewpointSpacingY Sync="TRUE">300</ViewpointSpacingY>
<AllowedItemMetadata Sync="TRUE">Basic</AllowedItemMetadata>
<DefaultResamplingMethod Sync="TRUE">1</DefaultResamplingMethod>
<AllowedMosaicMethods Sync="TRUE">NorthWest,ByAttribute</AllowedMosaicMethods>
<AllowedCompressions Sync="TRUE">None,JPEG,LZ77,LERC</AllowedCompressions>
<AllowedMensurationCapabilities Sync="TRUE">Basic</AllowedMensurationCapabilities>
<AvailableMensurationCapabilities Sync="TRUE">None,Basic,Base-Top Height,Top-Top Shadow Height,Base-Top Shadow Height,3D</AvailableMensurationCapabilities>
<ClipToBoundary Sync="TRUE">0</ClipToBoundary>
<FootprintMayContainNoData Sync="TRUE">-1</FootprintMayContainNoData>
<CellSizeTolerance Sync="TRUE">0.8</CellSizeTolerance>
<MinimumPixelContribution Sync="TRUE">1</MinimumPixelContribution>
<AvailableMosaicMethods Sync="TRUE">NorthWest,Center,LockRaster,ByAttribute,Nadir,Viewpoint,Seamline,None</AvailableMosaicMethods>
<AvailableCompressionMethods Sync="TRUE">None,JPEG,LZ77,LERC</AvailableCompressionMethods>
<AvailableItemMetadataLevels Sync="TRUE">None,Basic,Full</AvailableItemMetadataLevels>
<BandDefinitionKeyword Sync="TRUE">NONE</BandDefinitionKeyword>
<AllowedFields Sync="TRUE">Name,Source,Year_of_Data,Date_of_Data,Accuracy,Resolution,Project_Area_Name,Copyright</AllowedFields>
<ClipToFootprint Sync="TRUE">-1</ClipToFootprint>
<DataType Sync="TRUE">Generic</DataType>
<LowCellSize Sync="TRUE">0.5</LowCellSize>
<HighCellSize Sync="TRUE">3888</HighCellSize>
<MaxCellSize Sync="TRUE">0</MaxCellSize>
<ApplyColorCorrection Sync="TRUE">0</ApplyColorCorrection>
<ConfigKeyword Sync="TRUE"/>
<TimeValueFormat Sync="TRUE"/>
<EndTimeFieldName Sync="TRUE"/>
<StartTimeFieldName Sync="TRUE"/>
<TimeIntervalUnits Sync="TRUE"/>
<TimeInterval Sync="TRUE"/>
<MosaicOperator Sync="TRUE">1</MosaicOperator>
<BlendWidthUnits Sync="TRUE">1</BlendWidthUnits>
<UseTime Sync="TRUE">0</UseTime>
<SortAscending Sync="TRUE">-1</SortAscending>
<SortField Sync="TRUE">Year_of_Data</SortField>
<SortValue Sync="TRUE">0</SortValue>
</Properties>
<Functions Sync="TRUE">
<Function Description="Performs on-the-fly mosaic on a raster catalog." Name="Mosaic Function"/>
</Functions>
</RasterProperties>
</DataProperties>
<SyncDate>20191112</SyncDate>
<SyncTime>16540400</SyncTime>
<ModDate>20191112</ModDate>
<ModTime>16540400</ModTime>
</Esri>
<dataIdInfo>
<envirDesc Sync="TRUE"> Version 6.2 (Build 9200) ; Esri ArcGIS 10.6.1.9270</envirDesc>
<dataLang>
<languageCode Sync="TRUE" value="eng"/>
<countryCode Sync="TRUE" value="USA"/>
</dataLang>
<idCitation>
<resTitle Sync="TRUE">All_LiDAR_BareEarth</resTitle>
<presForm>
<PresFormCd Sync="TRUE" value="005"/>
</presForm>
</idCitation>
<spatRpType>
<SpatRepTypCd Sync="TRUE" value="002"/>
</spatRpType>
<dataExt>
<geoEle>
<GeoBndBox esriExtentType="search">
<exTypeCode Sync="TRUE">1</exTypeCode>
<westBL Sync="TRUE">-109.524993</westBL>
<eastBL Sync="TRUE">-108.627109</eastBL>
<northBL Sync="TRUE">50.812125</northBL>
<southBL Sync="TRUE">48.989582</southBL>
</GeoBndBox>
</geoEle>
</dataExt>
<idAbs>Arena Project: Fish, Wildlife and Lands has acquired LiDAR data for a 218.4 square kilometer area around Consul, Saskatchewan. This data was collected using the Riegl Q1560 LiDAR system with a 400kHz pulse rate, a point density of 25 per square meter, and a maximum of 4 returns collected. The LiDAR system was at a flying height of 550 meters with a speed of 140 knots, a scan angle of 60 degrees, and a 50% side lap. The Bare Earth DEM delivery is derived form this data. Other deliverables include ASCII, Binary, Hillshade, Intensity, and Orthophotos.
Great Sand Hills Project: The Planning and Evaluation Branch of the Ministry of Environment has acquired LiDAR data with all returns for the Great Sand Hills. The Bare Earth DEM delivery is a resampled product derived from this data. Other deliverables include Orthophotos. </idAbs>
<searchKeys>
<keyword>Slope</keyword>
<keyword>Digital Elevation Model</keyword>
<keyword>LiDAR</keyword>
<keyword>Bare Earth</keyword>
<keyword>Topography</keyword>
<keyword>Hillshade</keyword>
<keyword>Sasktachewan</keyword>
<keyword>Canada</keyword>
</searchKeys>
<idPurp>This is a collection of Bare Earth DEMs derived from LiDAR data acquried for various projects. Spatial resolution will vary. Date information is available. </idPurp>
<idCredit>Ministry of Environment, Fish, Wildlife and Lands Branch, Planning and Evaluation Branch</idCredit>
<resConst>
<Consts>
<useLimit>For public use. Use at your own risk.</useLimit>
</Consts>
</resConst>
</dataIdInfo>
<mdLang>
<languageCode Sync="TRUE" value="eng"/>
<countryCode Sync="TRUE" value="USA"/>
</mdLang>
<refSysInfo>
<RefSystem>
<refSysID>
<identCode Sync="TRUE" code="2957"/>
<idCodeSpace Sync="TRUE">EPSG</idCodeSpace>
<idVersion Sync="TRUE">6.13(9.3.0.0)</idVersion>
</refSysID>
</RefSystem>
</refSysInfo>
<spatRepInfo>
<Georect>
<cellGeo>
<CellGeoCd Sync="TRUE" value="002"/>
</cellGeo>
<numDims Sync="TRUE">2</numDims>
<tranParaAv Sync="TRUE">1</tranParaAv>
<chkPtAv Sync="TRUE">0</chkPtAv>
<cornerPts>
<pos Sync="TRUE">181084.844100 5435461.908100</pos>
</cornerPts>
<cornerPts>
<pos Sync="TRUE">181084.844100 5635689.908100</pos>
</cornerPts>
<cornerPts>
<pos Sync="TRUE">234808.344100 5635689.908100</pos>
</cornerPts>
<cornerPts>
<pos Sync="TRUE">234808.344100 5435461.908100</pos>
</cornerPts>
<centerPt>
<pos Sync="TRUE">207946.594100 5535575.908100</pos>
</centerPt>
<axisDimension type="002">
<dimSize Sync="TRUE">107447</dimSize>
<dimResol>
<value Sync="TRUE" uom="m">0.500000</value>
</dimResol>
</axisDimension>
<axisDimension type="001">
<dimSize Sync="TRUE">400456</dimSize>
<dimResol>
<value Sync="TRUE" uom="m">0.500000</value>
</dimResol>
</axisDimension>
<ptInPixel>
<PixOrientCd Sync="TRUE" value="001"/>
</ptInPixel>
</Georect>
</spatRepInfo>
<contInfo>
<ImgDesc>
<contentTyp>
<ContentTypCd Sync="TRUE" value="001"/>
</contentTyp>
<covDim>
<Band>
<dimDescrp Sync="TRUE">Band_1</dimDescrp>
<maxVal Sync="TRUE">951.449463</maxVal>
<minVal Sync="TRUE">651.294983</minVal>
<bitsPerVal Sync="TRUE">32</bitsPerVal>
<valUnit>
<UOM type="length"/>
</valUnit>
</Band>
</covDim>
</ImgDesc>
</contInfo>
<mdDateSt Sync="TRUE">20191112</mdDateSt>
</metadata>
