{ "currentVersion": 11.5, "serviceDescription": "

The Saskatchewan Ministry of Environment, Forest Service Branch, has developed a forest resource inventory (FRI) which meets a variety of strategic and operational planning information needs for the boreal plains. Such needs include information on the general land cover, terrain, and growing stock (height, diameter, basal area, timber volume and stem density) within the provincial forest and adjacent forest fringe. This inventory provides spatially explicit information as 10 m or 20 m raster grids and as vectors polygons for relatively homogeneous forest stands or naturally non-forested areas with a 0.5 ha minimum area and a 2.0 ha median area.<\/span><\/p>
Land class - generalized (LC_GEN) describes land areas in one of the eleven types. LC_GEN is available here as a color-mapped 16-bit unsigned integer raster grid in GeoTIFF format with a 10 m pixel resolution. <\/span><\/p>
Domain: [1\u202611].<\/span><\/p>
CLASSIFICATION<\/span><\/p><\/td>
VALUE<\/span><\/span><\/p><\/td>
RED<\/span><\/span><\/p><\/td>
GREEN<\/span><\/span><\/p><\/td>
BLUE<\/span><\/span><\/p><\/td><\/tr>
Water (WAT)<\/span><\/span><\/p><\/td>
1<\/span><\/span><\/p><\/td>
129<\/span><\/span><\/p><\/td>
212<\/span><\/span><\/p><\/td>
250<\/span><\/span><\/p><\/td><\/tr>
Upland Forest (FOR)<\/span><\/span><\/p><\/td>
2<\/span><\/span><\/p><\/td>
56<\/span><\/span><\/p><\/td>
142<\/span><\/span><\/p><\/td>
60<\/span><\/span><\/p><\/td><\/tr>
Shrubby Upland (SUL)<\/span><\/span><\/p><\/td>
3<\/span><\/span><\/p><\/td>
102<\/span><\/span><\/p><\/td>
187<\/span><\/span><\/p><\/td>
106<\/span><\/span><\/p><\/td><\/tr>
Treed Wetland (TWL)<\/span><\/span><\/p><\/td>
4<\/span><\/span><\/p><\/td>
123<\/span><\/span><\/p><\/td>
31<\/span><\/span><\/p><\/td>
162<\/span><\/span><\/p><\/td><\/tr>
Shrubby Wetland (SWL)<\/span><\/span><\/p><\/td>
5<\/span><\/span><\/p><\/td>
171<\/span><\/span><\/p><\/td>
71<\/span><\/span><\/p><\/td>
188<\/span><\/span><\/p><\/td><\/tr>
Open Wetland (OWL)<\/span><\/span><\/p><\/td>
6<\/span><\/span><\/p><\/td>
206<\/span><\/span><\/p><\/td>
147<\/span><\/span><\/p><\/td>
216<\/span><\/span><\/p><\/td><\/tr>
Treed Rock (TRK)<\/span><\/span><\/p><\/td>
7<\/span><\/span><\/p><\/td>
93<\/span><\/span><\/p><\/td>
64<\/span><\/span><\/p><\/td>
55<\/span><\/span><\/p><\/td><\/tr>
Rock or Sand (RKS)<\/span><\/span><\/p><\/td>
8<\/span><\/span><\/p><\/td>
188<\/span><\/span><\/p><\/td>
170<\/span><\/span><\/p><\/td>
164<\/span><\/span><\/p><\/td><\/tr>
Grass (GRS)<\/span><\/span><\/p><\/td>
9<\/span><\/span><\/p><\/td>
197<\/span><\/span><\/p><\/td>
225<\/span><\/span><\/p><\/td>
165<\/span><\/span><\/p><\/td><\/tr>
Agricultural Land (ALA)<\/span><\/span><\/p><\/td>
10<\/span><\/span><\/p><\/td>
230<\/span><\/span><\/p><\/td>
238<\/span><\/span><\/p><\/td>
156<\/span><\/span><\/p><\/td><\/tr>
Anthropogenic Unclassified (AUC)<\/span><\/span><\/p><\/td>
11<\/span><\/span><\/p><\/td>
189<\/span><\/span><\/p><\/td>
189<\/span><\/span><\/p><\/td>
189<\/span><\/span><\/p><\/td><\/tr><\/tbody><\/table>
  1. Water (WAT): Water that is above the surface of land and in a river, stream, lake, creek, spring, ravine, coulee, canyon, lagoon, swamp, marsh or other watercourse or water body, permanently or intermittently.<\/span><\/p><\/li>
  2. Upland Forest (FOR): Land that is currently growing, or capable of supporting, a treed upland forest community. Moisture regimes are dry through very moist.<\/span><\/p><\/li>
  3. Shrubby Upland (SUL): Uplands containing a persistent cover of non-merchantable hardwood tree species and shrubs. This class does not include upland forest types expected to succeed to a treed community following disturbance. This class is distinguished from shrubby wetland on the basis of moisture regime: moisture regimes are dry through very moist.<\/span><\/p><\/li>
  4. Treed Wetland (TWL): Wetlands containing ≥ 10% tree crown cover, typically greater than two metres tall in absence of recent disturbance. This class includes treed bogs, treed fens, and treed swamps. Moisture regimes are moderately wet to very wet.<\/span><\/p><\/li>
  5. Shrubby Wetland (SUL): Wetlands and riparian areas containing a persistent cover of non-merchantable hardwood trees and shrubs. This class includes shrub swamps, shrubby bogs and fens. It does not include upland forest types expected to succeed to a treed community following disturbance.<\/span><\/p><\/li>
  6. Open Wetland (OWL): Wetlands dominated by mosses, grasses, sedges, and small herbaceous plants, often associated with small areas of open water. This class includes marshes and open or graminoid bogs and fens. Moisture regimes are moderately wet to very wet.<\/span><\/p><\/li>
  7. Treed Rock (TRK): Areas of exposed bedrock interspersed with trees, where tree crown cover ≥ 10% and < 30%. Areas of partially exposed bedrock where crown cover ≥ 30% are classified as upland forest. Areas of exposed bedrock where crown cover <10% are classified as rock or sand.<\/span><\/p><\/li>
  8. Rock or Sand (RKS): Naturally occurring, barren or exposed, rock, sand, or gravel deposits with <10% of the area occupied by trees.<\/span><\/p><\/li>
  9. Grass (GRS): Uplands containing a persistent cover of grass and herbs. This class is differentiated from open wetland on the basis of moisture regime. It does not include upland forest types expected to succeed to a treed community following disturbance.<\/span><\/p><\/li>
  10. Agricultural Land (ALA): A land classification for lands which are cultivated for growing crops, including pasture, orchards and abandoned fields. Lands designated as provincial forests cannot be assigned this classification, however this class of land may be found within or adjacent to the mapped boundaries of provincial forests.<\/span><\/p><\/li>
  11. Anthropogenic Unclassified (AUC): Areas which are non-forested due to vegetation clearing and/or building. This includes built-up areas, camps, roads, railways, mines, utility corridors, gravel pits, and similar human-caused disturbances. With the exception of permanent roads used to access timber, timber harvests are not included as anthropogenic unclassified.<\/span><\/p><\/li><\/ol>
    For more information, see the <\/span>Forest Inventory Standard<\/span><\/a> of the Saskatchewan Environmental Code, Forest Inventory Chapter.<\/span><\/p><\/div><\/div><\/div>", "serviceItemId": "fb1d0f92bdff4d6ba1527fcacda86545", "name": "ForestResourceInventory/Land_class_generalized", "description": "", "extent": { "xmin": 168920, "ymin": 5692640, "xmax": 739190, "ymax": 6330670, "spatialReference": { "wkid": 2151, "latestWkid": 2957 } }, "initialExtent": { "xmin": 168920, "ymin": 5692640, "xmax": 739190, "ymax": 6330670, "spatialReference": { "wkid": 2151, "latestWkid": 2957 } }, "fullExtent": { "xmin": 168920, "ymin": 5692640, "xmax": 739190, "ymax": 6330670, "spatialReference": { "wkid": 2151, "latestWkid": 2957 } }, "sortableFields": "", "bandCount": 1, "pixelType": "U16", "minValues": [ 1 ], "maxValues": [ 11 ], "meanValues": [ 4.922594151299631 ], "stdvValues": [ 3.377260695620685 ], "serviceProperties": "NorthWest<\/MosaicMethod>First<\/MosaicOperator>true<\/SortAscending><\/LockImageID>Name<\/TileOrderField>0<\/TileOrderBase>600.000000<\/AvgImageSpacingX>300.000000<\/AvgImageSpacingY>0.0<\/ViewPointX>0.0<\/ViewPointY>0.0<\/ViewPointDefShiftX>0.0<\/ViewPointDefShiftY>None<\/CompressionMethod>75<\/CompressionQuality>0.010000<\/CompressionTolerance>Nearest<\/SamplingMethod><\/ImageServiceProperties><\/ImageServer>", "allowedFields": "Name", "hasMultidimensions": false, "pixelSizeX": 10, "pixelSizeY": 10, "meanPixelSize": 10, "datasetFormat": "AMD", "uncompressedSize": 7276987362, "blockWidth": 2048, "blockHeight": 256, "compressionType": "None", "bandNames": [ "Band_1" ], "allowCopy": true, "allowAnalysis": true, "itemAccess": false, "inspectionCapabilities": "", "minPixelSize": 0, "maxPixelSize": 0, "copyrightText": "Saskatchewan Ministry of Environment, Forest Service Branch.", "serviceDataType": "esriImageServiceDataTypeGeneric", "serviceSourceType": "esriImageServiceSourceTypeMosaicDataset", "objectIdField": "OBJECTID", "fields": [ { "name": "OBJECTID", "type": "esriFieldTypeOID", "alias": "OBJECTID", "domain": null }, { "name": "Shape", "type": "esriFieldTypeGeometry", "alias": "Shape", "domain": null }, { "name": "Name", "type": "esriFieldTypeString", "alias": "Name", "domain": null, "length": 200 }, { "name": "Category", "type": "esriFieldTypeInteger", "alias": "Category", "domain": { "type": "codedValue", "name": "MosaicCatalogItemCategoryDomain", "description": "Catalog item categories.", "codedValues": [ { "name": "Unknown", "code": 0 }, { "name": "Primary", "code": 1 }, { "name": "Overview", "code": 2 }, { "name": "Unprocessed Overview", "code": 3 }, { "name": "Partial Overview", "code": 4 }, { "name": "Inactive", "code": 5 }, { "name": "Uploaded", "code": 253 }, { "name": "Incomplete", "code": 254 }, { "name": "Custom", "code": 255 } ], "mergePolicy": "esriMPTDefaultValue", "splitPolicy": "esriSPTDefaultValue" } } ], "capabilities": "Catalog,Mensuration,Image,Metadata", "defaultMosaicMethod": "Northwest", "allowedMosaicMethods": "NorthWest,Center,LockRaster,ByAttribute,Nadir,Viewpoint,Seamline,None", "sortField": "", "sortValue": null, "sortAscending": true, "mosaicOperator": "First", "maxDownloadSizeLimit": 0, "defaultCompressionQuality": 75, "defaultResamplingMethod": "Nearest", "maxImageHeight": 4100, "maxImageWidth": 15000, "maxRecordCount": 1000, "maxDownloadImageCount": 0, "maxMosaicImageCount": 20, "allowRasterFunction": true, "rasterFunctionInfos": [ { "name": "LC_GEN_colormap", "description": "LC_GEN_colormap", "help": "" }, { "name": "None", "description": "Make a Raster or Raster Dataset into a Function Raster Dataset.", "help": "" } ], "rasterTypeInfos": [ { "name": "Raster Dataset", "description": "Supports all ArcGIS Raster Datasets", "help": "" } ], "mensurationCapabilities": "Basic", "hasHistograms": true, "hasColormap": false, "hasRasterAttributeTable": false, "minScale": 0, "maxScale": 0, "exportTilesAllowed": false, "supportsStatistics": true, "supportsAdvancedQueries": true, "editFieldsInfo": null, "ownershipBasedAccessControlForRasters": null, "allowComputeTiePoints": false, "useStandardizedQueries": true, "advancedQueryCapabilities": { "useStandardizedQueries": true, "supportsStatistics": true, "supportsOrderBy": true, "supportsDistinct": true, "supportsPagination": true }, "spatialReference": { "wkid": 2151, "latestWkid": 2957 } }