<?xml version="1.0" encoding="UTF-8" standalone="no"?>
<metadata xml:lang="en">
<Esri>
<CreaDate>20220830</CreaDate>
<CreaTime>13095700</CreaTime>
<ArcGISFormat>1.0</ArcGISFormat>
<SyncOnce>FALSE</SyncOnce>
<DataProperties>
<lineage>
<Process Date="20220830" Name="" Time="130957" ToolSource="c:\program files\arcgis\pro\Resources\ArcToolbox\toolboxes\Data Management Tools.tbx\CreateReferencedMosaicDataset" export="">CreateReferencedMosaicDataset \\nyx-galli\egis\Data\Raster\Landcover\forest_resource_inventory\FRI_Mosaic.gdb\LC_RAW \\nyx-galli\egis\Data\Raster\Landcover\forest_resource_inventory\FRI_Mosaic.gdb\R_LC_RAW PROJCS["NAD_1983_CSRS_UTM_Zone_13N",GEOGCS["GCS_North_American_1983_CSRS",DATUM["D_North_American_1983_CSRS",SPHEROID["GRS_1980",6378137.0,298.257222101]],PRIMEM["Greenwich",0.0],UNIT["Degree",0.0174532925199433]],PROJECTION["Transverse_Mercator"],PARAMETER["False_Easting",500000.0],PARAMETER["False_Northing",0.0],PARAMETER["Central_Meridian",-105.0],PARAMETER["Scale_Factor",0.9996],PARAMETER["Latitude_Of_Origin",0.0],UNIT["Meter",1.0]] # # # # # SELECT_USING_FEATURES # # # # BUILD_BOUNDARY</Process>
</lineage>
<itemProps>
<itemName Sync="TRUE">R_LC_RAW</itemName>
<itemLocation>
<linkage Sync="TRUE">file://\\nyx-galli\egis\Data\Raster\Landcover\forest_resource_inventory\FRI_Mosaic.gdb</linkage>
<protocol Sync="TRUE">Local Area Network</protocol>
</itemLocation>
<nativeExtBox>
<westBL Sync="TRUE">169610.000000</westBL>
<eastBL Sync="TRUE">735610.000000</eastBL>
<southBL Sync="TRUE">5750000.000000</southBL>
<northBL Sync="TRUE">6330670.000000</northBL>
<exTypeCode Sync="TRUE">1</exTypeCode>
</nativeExtBox>
</itemProps>
<coordRef>
<type Sync="TRUE">Projected</type>
<geogcsn Sync="TRUE">GCS_North_American_1983_CSRS</geogcsn>
<csUnits Sync="TRUE">Linear Unit: Meter (1.000000)</csUnits>
<projcsn Sync="TRUE">NAD_1983_CSRS_UTM_Zone_13N</projcsn>
<peXml Sync="TRUE">&lt;ProjectedCoordinateSystem xsi:type='typens:ProjectedCoordinateSystem' xmlns:xsi='http://www.w3.org/2001/XMLSchema-instance' xmlns:xs='http://www.w3.org/2001/XMLSchema' xmlns:typens='http://www.esri.com/schemas/ArcGIS/2.9.0'&gt;&lt;WKT&gt;PROJCS[&amp;quot;NAD_1983_CSRS_UTM_Zone_13N&amp;quot;,GEOGCS[&amp;quot;GCS_North_American_1983_CSRS&amp;quot;,DATUM[&amp;quot;D_North_American_1983_CSRS&amp;quot;,SPHEROID[&amp;quot;GRS_1980&amp;quot;,6378137.0,298.257222101]],PRIMEM[&amp;quot;Greenwich&amp;quot;,0.0],UNIT[&amp;quot;Degree&amp;quot;,0.0174532925199433]],PROJECTION[&amp;quot;Transverse_Mercator&amp;quot;],PARAMETER[&amp;quot;False_Easting&amp;quot;,500000.0],PARAMETER[&amp;quot;False_Northing&amp;quot;,0.0],PARAMETER[&amp;quot;Central_Meridian&amp;quot;,-105.0],PARAMETER[&amp;quot;Scale_Factor&amp;quot;,0.9996],PARAMETER[&amp;quot;Latitude_Of_Origin&amp;quot;,0.0],UNIT[&amp;quot;Meter&amp;quot;,1.0],AUTHORITY[&amp;quot;EPSG&amp;quot;,2957]]&lt;/WKT&gt;&lt;XOrigin&gt;-5120900&lt;/XOrigin&gt;&lt;YOrigin&gt;-9998100&lt;/YOrigin&gt;&lt;XYScale&gt;450445547.3910538&lt;/XYScale&gt;&lt;ZOrigin&gt;-100000&lt;/ZOrigin&gt;&lt;ZScale&gt;10000&lt;/ZScale&gt;&lt;MOrigin&gt;-100000&lt;/MOrigin&gt;&lt;MScale&gt;10000&lt;/MScale&gt;&lt;XYTolerance&gt;0.001&lt;/XYTolerance&gt;&lt;ZTolerance&gt;0.001&lt;/ZTolerance&gt;&lt;MTolerance&gt;0.001&lt;/MTolerance&gt;&lt;HighPrecision&gt;true&lt;/HighPrecision&gt;&lt;WKID&gt;2151&lt;/WKID&gt;&lt;LatestWKID&gt;2957&lt;/LatestWKID&gt;&lt;/ProjectedCoordinateSystem&gt;</peXml>
</coordRef>
<RasterProperties>
<General>
<PixelDepth Sync="TRUE">16</PixelDepth>
<HasColormap Sync="TRUE">FALSE</HasColormap>
<CompressionType Sync="TRUE">None</CompressionType>
<NumBands Sync="TRUE">1</NumBands>
<Format Sync="TRUE">AMD</Format>
<HasPyramids Sync="TRUE">TRUE</HasPyramids>
<SourceType Sync="TRUE">continuous</SourceType>
<PixelType Sync="TRUE">unsigned integer</PixelType>
<NoDataValue Sync="TRUE"/>
</General>
<Properties>
<MaxImageHeight Sync="TRUE">4100</MaxImageHeight>
<MaxImageWidth Sync="TRUE">15000</MaxImageWidth>
<MaxRecordCount Sync="TRUE">1000</MaxRecordCount>
<MaxDownloadImageCount Sync="TRUE">20</MaxDownloadImageCount>
<MaxDownloadSizeLimit Sync="TRUE">2048</MaxDownloadSizeLimit>
<MaxMosaicImageCount Sync="TRUE">20</MaxMosaicImageCount>
<DefaultCompressionQuality Sync="TRUE">75</DefaultCompressionQuality>
<DefaultCompressionTolerance Sync="TRUE">0.01</DefaultCompressionTolerance>
<BlendWidth Sync="TRUE">10</BlendWidth>
<ViewpointSpacingX Sync="TRUE">600</ViewpointSpacingX>
<ViewpointSpacingY Sync="TRUE">300</ViewpointSpacingY>
<AllowedItemMetadata Sync="TRUE">Basic</AllowedItemMetadata>
<DefaultResamplingMethod Sync="TRUE">1</DefaultResamplingMethod>
<AllowedMosaicMethods Sync="TRUE">NorthWest,Center,LockRaster,ByAttribute,Nadir,Viewpoint,Seamline,None</AllowedMosaicMethods>
<AllowedCompressions Sync="TRUE">None,JPEG,LZ77,LERC</AllowedCompressions>
<AllowedMensurationCapabilities Sync="TRUE">Basic</AllowedMensurationCapabilities>
<AvailableMensurationCapabilities Sync="TRUE">None,Basic,Base-Top Height,Top-Top Shadow Height,Base-Top Shadow Height,3D</AvailableMensurationCapabilities>
<ClipToBoundary Sync="TRUE">-1</ClipToBoundary>
<FootprintMayContainNoData Sync="TRUE">-1</FootprintMayContainNoData>
<CellSizeTolerance Sync="TRUE">0.8</CellSizeTolerance>
<MinimumPixelContribution Sync="TRUE">1</MinimumPixelContribution>
<AvailableMosaicMethods Sync="TRUE">NorthWest,Center,LockRaster,ByAttribute,Nadir,Viewpoint,Seamline,None</AvailableMosaicMethods>
<AvailableCompressionMethods Sync="TRUE">None,JPEG,LZ77,LERC</AvailableCompressionMethods>
<AvailableItemMetadataLevels Sync="TRUE">None,Basic,Full</AvailableItemMetadataLevels>
<BandDefinitionKeyword Sync="TRUE">NONE</BandDefinitionKeyword>
<_docversion_ Sync="TRUE">10</_docversion_>
<AllowedFields Sync="TRUE">Name,MinPS,MaxPS,LowPS,HighPS,Tag,GroupName,ProductName,CenterX,CenterY,ZOrder,Shape_Length,Shape_Area</AllowedFields>
<MaxCellSize Sync="TRUE">3200</MaxCellSize>
<LowCellSize Sync="TRUE">10</LowCellSize>
<HighCellSize Sync="TRUE">320</HighCellSize>
<PixelCacheLocation Sync="TRUE">C:\Users\soldford\AppData\Local\ESRI\rasterproxies\LC_RAW</PixelCacheLocation>
<ConfigKeyword Sync="TRUE"/>
</Properties>
<Functions Sync="TRUE">
<Function Description="Performs on-the-fly mosaic on a raster catalog." Name="Mosaic Function"/>
</Functions>
</RasterProperties>
</DataProperties>
<SyncDate>20220830</SyncDate>
<SyncTime>13381300</SyncTime>
<ModDate>20220830</ModDate>
<ModTime>13473700</ModTime>
<scaleRange>
<minScale>150000000</minScale>
<maxScale>5000</maxScale>
</scaleRange>
<ArcGISProfile>FGDC</ArcGISProfile>
</Esri>
<mdChar>
<CharSetCd value="004"/>
</mdChar>
<mdHrLv>
<ScopeCd value="005"/>
</mdHrLv>
<mdContact>
<rpOrgName>Saskatchewan Ministry of Environment, Forest Service Branch</rpOrgName>
<role>
<RoleCd value="007"/>
</role>
</mdContact>
<mdDateSt Sync="TRUE">20220830</mdDateSt>
<mdStanName>ArcGIS Metadata</mdStanName>
<mdStanVer>1.0</mdStanVer>
<dataIdInfo>
<idCitation>
<resTitle>Land_class_ungeneralized</resTitle>
<presForm>
<PresFormCd value="005"/>
</presForm>
<presForm>
<fgdcGeoform>raster digital data</fgdcGeoform>
</presForm>
</idCitation>
<idAbs>&lt;DIV STYLE="text-align:Left;"&gt;&lt;DIV&gt;&lt;DIV&gt;&lt;P&gt;&lt;SPAN&gt;The Saskatchewan Ministry of Environment, Forest Service Branch, has developed a forest resource inventory (FRI) which meets a variety of strategic and operational planning information needs for the boreal plains. Such needs include information on the general land cover, terrain, and growing stock (height, diameter, basal area, timber volume and stem density) within the provincial forest and adjacent forest fringe. This inventory provides spatially explicit information as 10 m or 20 m raster grids and as vectors polygons for relatively homogeneous forest stands or naturally non-forested areas with a 0.5 ha minimum area and a 2.0 ha median area.&lt;/SPAN&gt;&lt;/P&gt;&lt;P&gt;&lt;SPAN&gt;Land class - ungeneralized (LC_RAW) describes land areas in one of the eleven types. LC_RAW is available here as a color-mapped 16-bit unsigned integer raster grid in GeoTIFF format with a 10 m pixel resolution. &lt;/SPAN&gt;&lt;/P&gt;&lt;P&gt;&lt;SPAN&gt;Domain: [1…11].&lt;/SPAN&gt;&lt;/P&gt;&lt;TABLE&gt;&lt;TBODY&gt;&lt;TR&gt;&lt;TD&gt;&lt;P STYLE="font-weight:bold;margin:0 0 0 0;"&gt;&lt;SPAN&gt;CLASSIFICATION&lt;/SPAN&gt;&lt;/P&gt;&lt;/TD&gt;&lt;TD&gt;&lt;P STYLE="text-align:Center;font-weight:bold;margin:0 0 0 0;"&gt;&lt;SPAN&gt;&lt;SPAN&gt;VALUE&lt;/SPAN&gt;&lt;/SPAN&gt;&lt;/P&gt;&lt;/TD&gt;&lt;TD&gt;&lt;P STYLE="text-align:Center;font-weight:bold;margin:0 0 0 0;"&gt;&lt;SPAN&gt;&lt;SPAN&gt;RED&lt;/SPAN&gt;&lt;/SPAN&gt;&lt;/P&gt;&lt;/TD&gt;&lt;TD&gt;&lt;P STYLE="text-align:Center;font-weight:bold;margin:0 0 0 0;"&gt;&lt;SPAN&gt;&lt;SPAN&gt;GREEN&lt;/SPAN&gt;&lt;/SPAN&gt;&lt;/P&gt;&lt;/TD&gt;&lt;TD&gt;&lt;P STYLE="text-align:Center;font-weight:bold;margin:0 0 0 0;"&gt;&lt;SPAN&gt;&lt;SPAN&gt;BLUE&lt;/SPAN&gt;&lt;/SPAN&gt;&lt;/P&gt;&lt;/TD&gt;&lt;/TR&gt;&lt;TR&gt;&lt;TD&gt;&lt;P STYLE="margin:0 0 0 0;"&gt;&lt;SPAN&gt;&lt;SPAN&gt;Water (WAT)&lt;/SPAN&gt;&lt;/SPAN&gt;&lt;/P&gt;&lt;/TD&gt;&lt;TD&gt;&lt;P STYLE="text-align:Center;margin:0 0 0 0;"&gt;&lt;SPAN&gt;&lt;SPAN&gt;1&lt;/SPAN&gt;&lt;/SPAN&gt;&lt;/P&gt;&lt;/TD&gt;&lt;TD&gt;&lt;P STYLE="text-align:Center;margin:0 0 0 0;"&gt;&lt;SPAN&gt;&lt;SPAN&gt;129&lt;/SPAN&gt;&lt;/SPAN&gt;&lt;/P&gt;&lt;/TD&gt;&lt;TD&gt;&lt;P STYLE="text-align:Center;margin:0 0 0 0;"&gt;&lt;SPAN&gt;&lt;SPAN&gt;212&lt;/SPAN&gt;&lt;/SPAN&gt;&lt;/P&gt;&lt;/TD&gt;&lt;TD&gt;&lt;P STYLE="text-align:Center;margin:0 0 0 0;"&gt;&lt;SPAN&gt;&lt;SPAN&gt;250&lt;/SPAN&gt;&lt;/SPAN&gt;&lt;/P&gt;&lt;/TD&gt;&lt;/TR&gt;&lt;TR&gt;&lt;TD&gt;&lt;P STYLE="margin:0 0 0 0;"&gt;&lt;SPAN&gt;&lt;SPAN&gt;Upland Forest (FOR)&lt;/SPAN&gt;&lt;/SPAN&gt;&lt;/P&gt;&lt;/TD&gt;&lt;TD&gt;&lt;P STYLE="text-align:Center;margin:0 0 0 0;"&gt;&lt;SPAN&gt;&lt;SPAN&gt;2&lt;/SPAN&gt;&lt;/SPAN&gt;&lt;/P&gt;&lt;/TD&gt;&lt;TD&gt;&lt;P STYLE="text-align:Center;margin:0 0 0 0;"&gt;&lt;SPAN&gt;&lt;SPAN&gt;56&lt;/SPAN&gt;&lt;/SPAN&gt;&lt;/P&gt;&lt;/TD&gt;&lt;TD&gt;&lt;P STYLE="text-align:Center;margin:0 0 0 0;"&gt;&lt;SPAN&gt;&lt;SPAN&gt;142&lt;/SPAN&gt;&lt;/SPAN&gt;&lt;/P&gt;&lt;/TD&gt;&lt;TD&gt;&lt;P STYLE="text-align:Center;margin:0 0 0 0;"&gt;&lt;SPAN&gt;&lt;SPAN&gt;60&lt;/SPAN&gt;&lt;/SPAN&gt;&lt;/P&gt;&lt;/TD&gt;&lt;/TR&gt;&lt;TR&gt;&lt;TD&gt;&lt;P STYLE="margin:0 0 0 0;"&gt;&lt;SPAN&gt;&lt;SPAN&gt;Shrubby Upland (SUL)&lt;/SPAN&gt;&lt;/SPAN&gt;&lt;/P&gt;&lt;/TD&gt;&lt;TD&gt;&lt;P STYLE="text-align:Center;margin:0 0 0 0;"&gt;&lt;SPAN&gt;&lt;SPAN&gt;3&lt;/SPAN&gt;&lt;/SPAN&gt;&lt;/P&gt;&lt;/TD&gt;&lt;TD&gt;&lt;P STYLE="text-align:Center;margin:0 0 0 0;"&gt;&lt;SPAN&gt;&lt;SPAN&gt;102&lt;/SPAN&gt;&lt;/SPAN&gt;&lt;/P&gt;&lt;/TD&gt;&lt;TD&gt;&lt;P STYLE="text-align:Center;margin:0 0 0 0;"&gt;&lt;SPAN&gt;&lt;SPAN&gt;187&lt;/SPAN&gt;&lt;/SPAN&gt;&lt;/P&gt;&lt;/TD&gt;&lt;TD&gt;&lt;P STYLE="text-align:Center;margin:0 0 0 0;"&gt;&lt;SPAN&gt;&lt;SPAN&gt;106&lt;/SPAN&gt;&lt;/SPAN&gt;&lt;/P&gt;&lt;/TD&gt;&lt;/TR&gt;&lt;TR&gt;&lt;TD&gt;&lt;P STYLE="margin:0 0 0 0;"&gt;&lt;SPAN&gt;&lt;SPAN&gt;Treed Wetland (TWL)&lt;/SPAN&gt;&lt;/SPAN&gt;&lt;/P&gt;&lt;/TD&gt;&lt;TD&gt;&lt;P STYLE="text-align:Center;margin:0 0 0 0;"&gt;&lt;SPAN&gt;&lt;SPAN&gt;4&lt;/SPAN&gt;&lt;/SPAN&gt;&lt;/P&gt;&lt;/TD&gt;&lt;TD&gt;&lt;P STYLE="text-align:Center;margin:0 0 0 0;"&gt;&lt;SPAN&gt;&lt;SPAN&gt;123&lt;/SPAN&gt;&lt;/SPAN&gt;&lt;/P&gt;&lt;/TD&gt;&lt;TD&gt;&lt;P STYLE="text-align:Center;margin:0 0 0 0;"&gt;&lt;SPAN&gt;&lt;SPAN&gt;31&lt;/SPAN&gt;&lt;/SPAN&gt;&lt;/P&gt;&lt;/TD&gt;&lt;TD&gt;&lt;P STYLE="text-align:Center;margin:0 0 0 0;"&gt;&lt;SPAN&gt;&lt;SPAN&gt;162&lt;/SPAN&gt;&lt;/SPAN&gt;&lt;/P&gt;&lt;/TD&gt;&lt;/TR&gt;&lt;TR&gt;&lt;TD&gt;&lt;P STYLE="margin:0 0 0 0;"&gt;&lt;SPAN&gt;&lt;SPAN&gt;Shrubby Wetland (SWL)&lt;/SPAN&gt;&lt;/SPAN&gt;&lt;/P&gt;&lt;/TD&gt;&lt;TD&gt;&lt;P STYLE="text-align:Center;margin:0 0 0 0;"&gt;&lt;SPAN&gt;&lt;SPAN&gt;5&lt;/SPAN&gt;&lt;/SPAN&gt;&lt;/P&gt;&lt;/TD&gt;&lt;TD&gt;&lt;P STYLE="text-align:Center;margin:0 0 0 0;"&gt;&lt;SPAN&gt;&lt;SPAN&gt;171&lt;/SPAN&gt;&lt;/SPAN&gt;&lt;/P&gt;&lt;/TD&gt;&lt;TD&gt;&lt;P STYLE="text-align:Center;margin:0 0 0 0;"&gt;&lt;SPAN&gt;&lt;SPAN&gt;71&lt;/SPAN&gt;&lt;/SPAN&gt;&lt;/P&gt;&lt;/TD&gt;&lt;TD&gt;&lt;P STYLE="text-align:Center;margin:0 0 0 0;"&gt;&lt;SPAN&gt;&lt;SPAN&gt;188&lt;/SPAN&gt;&lt;/SPAN&gt;&lt;/P&gt;&lt;/TD&gt;&lt;/TR&gt;&lt;TR&gt;&lt;TD&gt;&lt;P STYLE="margin:0 0 0 0;"&gt;&lt;SPAN&gt;&lt;SPAN&gt;Open Wetland (OWL)&lt;/SPAN&gt;&lt;/SPAN&gt;&lt;/P&gt;&lt;/TD&gt;&lt;TD&gt;&lt;P STYLE="text-align:Center;margin:0 0 0 0;"&gt;&lt;SPAN&gt;&lt;SPAN&gt;6&lt;/SPAN&gt;&lt;/SPAN&gt;&lt;/P&gt;&lt;/TD&gt;&lt;TD&gt;&lt;P STYLE="text-align:Center;margin:0 0 0 0;"&gt;&lt;SPAN&gt;&lt;SPAN&gt;206&lt;/SPAN&gt;&lt;/SPAN&gt;&lt;/P&gt;&lt;/TD&gt;&lt;TD&gt;&lt;P STYLE="text-align:Center;margin:0 0 0 0;"&gt;&lt;SPAN&gt;&lt;SPAN&gt;147&lt;/SPAN&gt;&lt;/SPAN&gt;&lt;/P&gt;&lt;/TD&gt;&lt;TD&gt;&lt;P STYLE="text-align:Center;margin:0 0 0 0;"&gt;&lt;SPAN&gt;&lt;SPAN&gt;216&lt;/SPAN&gt;&lt;/SPAN&gt;&lt;/P&gt;&lt;/TD&gt;&lt;/TR&gt;&lt;TR&gt;&lt;TD&gt;&lt;P STYLE="margin:0 0 0 0;"&gt;&lt;SPAN&gt;&lt;SPAN&gt;Treed Rock (TRK)&lt;/SPAN&gt;&lt;/SPAN&gt;&lt;/P&gt;&lt;/TD&gt;&lt;TD&gt;&lt;P STYLE="text-align:Center;margin:0 0 0 0;"&gt;&lt;SPAN&gt;&lt;SPAN&gt;7&lt;/SPAN&gt;&lt;/SPAN&gt;&lt;/P&gt;&lt;/TD&gt;&lt;TD&gt;&lt;P STYLE="text-align:Center;margin:0 0 0 0;"&gt;&lt;SPAN&gt;&lt;SPAN&gt;93&lt;/SPAN&gt;&lt;/SPAN&gt;&lt;/P&gt;&lt;/TD&gt;&lt;TD&gt;&lt;P STYLE="text-align:Center;margin:0 0 0 0;"&gt;&lt;SPAN&gt;&lt;SPAN&gt;64&lt;/SPAN&gt;&lt;/SPAN&gt;&lt;/P&gt;&lt;/TD&gt;&lt;TD&gt;&lt;P STYLE="text-align:Center;margin:0 0 0 0;"&gt;&lt;SPAN&gt;&lt;SPAN&gt;55&lt;/SPAN&gt;&lt;/SPAN&gt;&lt;/P&gt;&lt;/TD&gt;&lt;/TR&gt;&lt;TR&gt;&lt;TD&gt;&lt;P STYLE="margin:0 0 0 0;"&gt;&lt;SPAN&gt;&lt;SPAN&gt;Rock or Sand (RKS)&lt;/SPAN&gt;&lt;/SPAN&gt;&lt;/P&gt;&lt;/TD&gt;&lt;TD&gt;&lt;P STYLE="text-align:Center;margin:0 0 0 0;"&gt;&lt;SPAN&gt;&lt;SPAN&gt;8&lt;/SPAN&gt;&lt;/SPAN&gt;&lt;/P&gt;&lt;/TD&gt;&lt;TD&gt;&lt;P STYLE="text-align:Center;margin:0 0 0 0;"&gt;&lt;SPAN&gt;&lt;SPAN&gt;188&lt;/SPAN&gt;&lt;/SPAN&gt;&lt;/P&gt;&lt;/TD&gt;&lt;TD&gt;&lt;P STYLE="text-align:Center;margin:0 0 0 0;"&gt;&lt;SPAN&gt;&lt;SPAN&gt;170&lt;/SPAN&gt;&lt;/SPAN&gt;&lt;/P&gt;&lt;/TD&gt;&lt;TD&gt;&lt;P STYLE="text-align:Center;margin:0 0 0 0;"&gt;&lt;SPAN&gt;&lt;SPAN&gt;164&lt;/SPAN&gt;&lt;/SPAN&gt;&lt;/P&gt;&lt;/TD&gt;&lt;/TR&gt;&lt;TR&gt;&lt;TD&gt;&lt;P STYLE="margin:0 0 0 0;"&gt;&lt;SPAN&gt;&lt;SPAN&gt;Grass (GRS)&lt;/SPAN&gt;&lt;/SPAN&gt;&lt;/P&gt;&lt;/TD&gt;&lt;TD&gt;&lt;P STYLE="text-align:Center;margin:0 0 0 0;"&gt;&lt;SPAN&gt;&lt;SPAN&gt;9&lt;/SPAN&gt;&lt;/SPAN&gt;&lt;/P&gt;&lt;/TD&gt;&lt;TD&gt;&lt;P STYLE="text-align:Center;margin:0 0 0 0;"&gt;&lt;SPAN&gt;&lt;SPAN&gt;197&lt;/SPAN&gt;&lt;/SPAN&gt;&lt;/P&gt;&lt;/TD&gt;&lt;TD&gt;&lt;P STYLE="text-align:Center;margin:0 0 0 0;"&gt;&lt;SPAN&gt;&lt;SPAN&gt;225&lt;/SPAN&gt;&lt;/SPAN&gt;&lt;/P&gt;&lt;/TD&gt;&lt;TD&gt;&lt;P STYLE="text-align:Center;margin:0 0 0 0;"&gt;&lt;SPAN&gt;&lt;SPAN&gt;165&lt;/SPAN&gt;&lt;/SPAN&gt;&lt;/P&gt;&lt;/TD&gt;&lt;/TR&gt;&lt;TR&gt;&lt;TD&gt;&lt;P STYLE="margin:0 0 0 0;"&gt;&lt;SPAN&gt;&lt;SPAN&gt;Agricultural Land (ALA)&lt;/SPAN&gt;&lt;/SPAN&gt;&lt;/P&gt;&lt;/TD&gt;&lt;TD&gt;&lt;P STYLE="text-align:Center;margin:0 0 0 0;"&gt;&lt;SPAN&gt;&lt;SPAN&gt;10&lt;/SPAN&gt;&lt;/SPAN&gt;&lt;/P&gt;&lt;/TD&gt;&lt;TD&gt;&lt;P STYLE="text-align:Center;margin:0 0 0 0;"&gt;&lt;SPAN&gt;&lt;SPAN&gt;230&lt;/SPAN&gt;&lt;/SPAN&gt;&lt;/P&gt;&lt;/TD&gt;&lt;TD&gt;&lt;P STYLE="text-align:Center;margin:0 0 0 0;"&gt;&lt;SPAN&gt;&lt;SPAN&gt;238&lt;/SPAN&gt;&lt;/SPAN&gt;&lt;/P&gt;&lt;/TD&gt;&lt;TD&gt;&lt;P STYLE="text-align:Center;margin:0 0 0 0;"&gt;&lt;SPAN&gt;&lt;SPAN&gt;156&lt;/SPAN&gt;&lt;/SPAN&gt;&lt;/P&gt;&lt;/TD&gt;&lt;/TR&gt;&lt;TR&gt;&lt;TD&gt;&lt;P STYLE="margin:0 0 0 0;"&gt;&lt;SPAN&gt;&lt;SPAN&gt;Anthropogenic Unclassified (AUC)&lt;/SPAN&gt;&lt;/SPAN&gt;&lt;/P&gt;&lt;/TD&gt;&lt;TD&gt;&lt;P STYLE="text-align:Center;margin:0 0 0 0;"&gt;&lt;SPAN&gt;&lt;SPAN&gt;11&lt;/SPAN&gt;&lt;/SPAN&gt;&lt;/P&gt;&lt;/TD&gt;&lt;TD&gt;&lt;P STYLE="text-align:Center;margin:0 0 0 0;"&gt;&lt;SPAN&gt;&lt;SPAN&gt;189&lt;/SPAN&gt;&lt;/SPAN&gt;&lt;/P&gt;&lt;/TD&gt;&lt;TD&gt;&lt;P STYLE="text-align:Center;margin:0 0 0 0;"&gt;&lt;SPAN&gt;&lt;SPAN&gt;189&lt;/SPAN&gt;&lt;/SPAN&gt;&lt;/P&gt;&lt;/TD&gt;&lt;TD&gt;&lt;P STYLE="text-align:Center;margin:0 0 0 0;"&gt;&lt;SPAN&gt;&lt;SPAN&gt;189&lt;/SPAN&gt;&lt;/SPAN&gt;&lt;/P&gt;&lt;/TD&gt;&lt;/TR&gt;&lt;/TBODY&gt;&lt;/TABLE&gt;&lt;OL&gt;&lt;LI&gt;&lt;P&gt;&lt;SPAN&gt;Water (WAT): Water that is above the surface of land and in a river, stream, lake, creek, spring, ravine, coulee, canyon, lagoon, swamp, marsh or other watercourse or water body, permanently or intermittently.&lt;/SPAN&gt;&lt;/P&gt;&lt;/LI&gt;&lt;LI&gt;&lt;P&gt;&lt;SPAN&gt;Upland Forest (FOR): Land that is currently growing, or capable of supporting, a treed upland forest community. Moisture regimes are dry through very moist.&lt;/SPAN&gt;&lt;/P&gt;&lt;/LI&gt;&lt;LI&gt;&lt;P&gt;&lt;SPAN&gt;Shrubby Upland (SUL): Uplands containing a persistent cover of non-merchantable hardwood tree species and shrubs. This class does not include upland forest types expected to succeed to a treed community following disturbance. This class is distinguished from shrubby wetland on the basis of moisture regime: moisture regimes are dry through very moist.&lt;/SPAN&gt;&lt;/P&gt;&lt;/LI&gt;&lt;LI&gt;&lt;P&gt;&lt;SPAN&gt;Treed Wetland (TWL): Wetlands containing ≥ 10% tree crown cover, typically greater than two metres tall in absence of recent disturbance. This class includes treed bogs, treed fens, and treed swamps. Moisture regimes are moderately wet to very wet.&lt;/SPAN&gt;&lt;/P&gt;&lt;/LI&gt;&lt;LI&gt;&lt;P&gt;&lt;SPAN&gt;Shrubby Wetland (SUL): Wetlands and riparian areas containing a persistent cover of non-merchantable hardwood trees and shrubs. This class includes shrub swamps, shrubby bogs and fens. It does not include upland forest types expected to succeed to a treed community following disturbance.&lt;/SPAN&gt;&lt;/P&gt;&lt;/LI&gt;&lt;LI&gt;&lt;P&gt;&lt;SPAN&gt;Open Wetland (OWL): Wetlands dominated by mosses, grasses, sedges, and small herbaceous plants, often associated with small areas of open water. This class includes marshes and open or graminoid bogs and fens. Moisture regimes are moderately wet to very wet.&lt;/SPAN&gt;&lt;/P&gt;&lt;/LI&gt;&lt;LI&gt;&lt;P&gt;&lt;SPAN&gt;Treed Rock (TRK): Areas of exposed bedrock interspersed with trees, where tree crown cover ≥ 10% and &amp;lt; 30%. Areas of partially exposed bedrock where crown cover ≥ 30% are classified as upland forest. Areas of exposed bedrock where crown cover &amp;lt;10% are classified as rock or sand.&lt;/SPAN&gt;&lt;/P&gt;&lt;/LI&gt;&lt;LI&gt;&lt;P&gt;&lt;SPAN&gt;Rock or Sand (RKS): Naturally occurring, barren or exposed, rock, sand, or gravel deposits with &amp;lt;10% of the area occupied by trees.&lt;/SPAN&gt;&lt;/P&gt;&lt;/LI&gt;&lt;LI&gt;&lt;P&gt;&lt;SPAN&gt;Grass (GRS): Uplands containing a persistent cover of grass and herbs. This class is differentiated from open wetland on the basis of moisture regime. It does not include upland forest types expected to succeed to a treed community following disturbance.&lt;/SPAN&gt;&lt;/P&gt;&lt;/LI&gt;&lt;LI&gt;&lt;P&gt;&lt;SPAN&gt;Agricultural Land (ALA): A land classification for lands which are cultivated for growing crops, including pasture, orchards and abandoned fields. Lands designated as provincial forests cannot be assigned this classification, however this class of land may be found within or adjacent to the mapped boundaries of provincial forests.&lt;/SPAN&gt;&lt;/P&gt;&lt;/LI&gt;&lt;LI&gt;&lt;P&gt;&lt;SPAN&gt;Anthropogenic Unclassified (AUC): Areas which are non-forested due to vegetation clearing and/or building. This includes built-up areas, camps, roads, railways, mines, utility corridors, gravel pits, and similar human-caused disturbances. With the exception of permanent roads used to access timber, timber harvests are not included as anthropogenic unclassified.&lt;/SPAN&gt;&lt;/P&gt;&lt;/LI&gt;&lt;/OL&gt;&lt;P&gt;&lt;SPAN&gt;For more information, see the &lt;/SPAN&gt;&lt;A href="https://publications.saskatchewan.ca:443/" STYLE="text-decoration:underline;"&gt;&lt;SPAN&gt;Forest Inventory Standard&lt;/SPAN&gt;&lt;/A&gt;&lt;SPAN&gt; of the Saskatchewan Environmental Code, Forest Inventory Chapter.&lt;/SPAN&gt;&lt;/P&gt;&lt;/DIV&gt;&lt;/DIV&gt;&lt;/DIV&gt;</idAbs>
<idPurp>Ungeneralized land classification in one of eleven types. Available here as a land class raster (GeoTIF) with a 10 m pixel resolution.</idPurp>
<idCredit>Saskatchewan Ministry of Environment, Forest Service Branch.</idCredit>
<idStatus>
<ProgCd value="007"/>
</idStatus>
<idPoC>
<rpOrgName>Saskatchewan Ministry of Environment, Forest Service Branch</rpOrgName>
<role>
<RoleCd value="007"/>
</role>
</idPoC>
<resMaint>
<maintFreq>
<MaintFreqCd value="009"/>
</maintFreq>
</resMaint>
<themeKeys>
<thesaName>
<resTitle>ISO 19115 Topic Categories</resTitle>
</thesaName>
<keyword>environment</keyword>
<keyword>biota</keyword>
<keyword>imageryBaseMapsEarthCover</keyword>
</themeKeys>
<themeKeys>
<keyword>land class</keyword>
<keyword>ungenteralized</keyword>
<keyword>lc_raw</keyword>
<keyword>raster</keyword>
<keyword>forestry</keyword>
<keyword>forest</keyword>
<keyword>forest inventory</keyword>
<keyword>forest resource inventory</keyword>
<keyword>fri</keyword>
<keyword>forest service</keyword>
<keyword>ministry of environment</keyword>
<keyword>environment</keyword>
<keyword>government of saskatchewan</keyword>
<keyword>saskatchewan</keyword>
<keyword>canada</keyword>
</themeKeys>
<searchKeys>
<keyword>environment</keyword>
<keyword>biota</keyword>
<keyword>imageryBaseMapsEarthCover</keyword>
<keyword>land class</keyword>
<keyword>ungenteralized</keyword>
<keyword>lc_raw</keyword>
<keyword>raster</keyword>
<keyword>forestry</keyword>
<keyword>forest</keyword>
<keyword>forest inventory</keyword>
<keyword>forest resource inventory</keyword>
<keyword>fri</keyword>
<keyword>forest service</keyword>
<keyword>ministry of environment</keyword>
<keyword>environment</keyword>
<keyword>government of saskatchewan</keyword>
<keyword>saskatchewan</keyword>
<keyword>canada</keyword>
</searchKeys>
<resConst>
<Consts>
<useLimit>&lt;DIV STYLE="text-align:Left;"&gt;&lt;DIV&gt;&lt;DIV&gt;&lt;P&gt;&lt;SPAN&gt;Government of Saskatchewan Standard Unrestricted Use Data Licence v2.0&lt;/SPAN&gt;&lt;/P&gt;&lt;/DIV&gt;&lt;/DIV&gt;&lt;/DIV&gt;</useLimit>
</Consts>
</resConst>
<spatRpType>
<SpatRepTypCd value="002"/>
</spatRpType>
<envirDesc>Esri ArcGIS 12.9.3.32739</envirDesc>
<dataExt>
<geoEle>
<GeoBndBox>
<exTypeCode>true</exTypeCode>
<westBL>-110.442185</westBL>
<eastBL>-101.114137</eastBL>
<northBL>57.119336</northBL>
<southBL>51.803008</southBL>
</GeoBndBox>
</geoEle>
</dataExt>
<dataLang>
<languageCode Sync="TRUE" value="eng"/>
<countryCode Sync="TRUE" value="USA"/>
</dataLang>
<dataExt>
<geoEle>
<GeoBndBox esriExtentType="search">
<exTypeCode Sync="TRUE">1</exTypeCode>
<westBL Sync="TRUE">-110.442185</westBL>
<eastBL Sync="TRUE">-101.114137</eastBL>
<northBL Sync="TRUE">57.119336</northBL>
<southBL Sync="TRUE">51.803008</southBL>
</GeoBndBox>
</geoEle>
</dataExt>
<tpCat>
<TopicCatCd value="002"/>
</tpCat>
<tpCat>
<TopicCatCd value="007"/>
</tpCat>
<tpCat>
<TopicCatCd value="010"/>
</tpCat>
</dataIdInfo>
<spatRepInfo>
<Georect>
<numDims>2</numDims>
<axisDimension type="001">
<dimSize>58067</dimSize>
<dimResol>
<value Sync="TRUE" uom="m">10.000000</value>
</dimResol>
</axisDimension>
<axisDimension type="002">
