<?xml version="1.0" encoding="UTF-8" standalone="no"?>
<metadata xml:lang="en">
<Esri>
<CreaDate>20190115</CreaDate>
<CreaTime>15311500</CreaTime>
<ArcGISFormat>1.0</ArcGISFormat>
<ArcGISstyle>FGDC CSDGM Metadata</ArcGISstyle>
<SyncOnce>FALSE</SyncOnce>
<DataProperties>
<lineage>
<Process Date="20190115" Time="153115" ToolSource="c:\program files (x86)\arcgis\desktop10.5\ArcToolbox\Toolboxes\Data Management Tools.tbx\CreateReferencedMosaicDataset">CreateReferencedMosaicDataset \\nyx-galli\eGIS\Data\Raster\Imagery\Aerial\Forest_Service\Derived_Mosaics.gdb\D_FS_Orthos_RGB \\nyx-galli\eGIS\Data\Raster\Imagery\Aerial\Forest_Service\Derived_Mosaics.gdb\R_FS_Orthos_RGB "PROJCS['NAD_1983_CSRS_UTM_Zone_13N',GEOGCS['GCS_North_American_1983_CSRS',DATUM['D_North_American_1983_CSRS',SPHEROID['GRS_1980',6378137.0,298.257222101]],PRIMEM['Greenwich',0.0],UNIT['Degree',0.0174532925199433]],PROJECTION['Transverse_Mercator'],PARAMETER['False_Easting',500000.0],PARAMETER['False_Northing',0.0],PARAMETER['Central_Meridian',-105.0],PARAMETER['Scale_Factor',0.9996],PARAMETER['Latitude_Of_Origin',0.0],UNIT['Meter',1.0]];-5120900 -9998100 10000;-100000 10000;-100000 10000;0.001;0.001;0.001;IsHighPrecision" # # # # # SELECT_USING_FEATURES # # # # BUILD_BOUNDARY</Process>
<Process Date="20190115" Time="162951" ToolSource="c:\program files (x86)\arcgis\desktop10.5\ArcToolbox\Toolboxes\Data Management Tools.tbx\AnalyzeMosaicDataset">AnalyzeMosaicDataset \\nyx-galli\eGIS\Data\Raster\Imagery\Aerial\Forest_Service\Derived_Mosaics.gdb\R_FS_Orthos_RGB # FOOTPRINT;FUNCTION;RASTER;PATHS</Process>
<Process Date="20190115" Time="163402" ToolSource="c:\program files (x86)\arcgis\desktop10.5\ArcToolbox\Toolboxes\Data Management Tools.tbx\AnalyzeMosaicDataset">AnalyzeMosaicDataset \\nyx-galli\eGIS\Data\Raster\Imagery\Aerial\Forest_Service\Derived_Mosaics.gdb\R_FS_Orthos_RGB # FOOTPRINT;FUNCTION;RASTER;PATHS</Process>
</lineage>
<itemProps>
<itemName Sync="TRUE">R_FS_Orthos_RGB</itemName>
<itemLocation>
<linkage Sync="TRUE">file://\\nyx-galli\eGIS\Data\Raster\Imagery\Aerial\Forest_Service\Derived_Mosaics.gdb</linkage>
<protocol Sync="TRUE">Local Area Network</protocol>
</itemLocation>
<nativeExtBox>
<westBL Sync="TRUE">301661.255500</westBL>
<eastBL Sync="TRUE">460000.855500</eastBL>
<southBL Sync="TRUE">5969998.699900</southBL>
<northBL Sync="TRUE">6079999.099900</northBL>
<exTypeCode Sync="TRUE">1</exTypeCode>
</nativeExtBox>
</itemProps>
<coordRef>
<type Sync="TRUE">Projected</type>
<geogcsn Sync="TRUE">GCS_North_American_1983_CSRS</geogcsn>
<csUnits Sync="TRUE">Linear Unit: Meter (1.000000)</csUnits>
<projcsn Sync="TRUE">NAD_1983_CSRS_UTM_Zone_13N</projcsn>
<peXml Sync="TRUE">&lt;ProjectedCoordinateSystem xsi:type='typens:ProjectedCoordinateSystem' xmlns:xsi='http://www.w3.org/2001/XMLSchema-instance' xmlns:xs='http://www.w3.org/2001/XMLSchema' xmlns:typens='http://www.esri.com/schemas/ArcGIS/10.6'&gt;&lt;WKT&gt;PROJCS[&amp;quot;NAD_1983_CSRS_UTM_Zone_13N&amp;quot;,GEOGCS[&amp;quot;GCS_North_American_1983_CSRS&amp;quot;,DATUM[&amp;quot;D_North_American_1983_CSRS&amp;quot;,SPHEROID[&amp;quot;GRS_1980&amp;quot;,6378137.0,298.257222101]],PRIMEM[&amp;quot;Greenwich&amp;quot;,0.0],UNIT[&amp;quot;Degree&amp;quot;,0.0174532925199433]],PROJECTION[&amp;quot;Transverse_Mercator&amp;quot;],PARAMETER[&amp;quot;False_Easting&amp;quot;,500000.0],PARAMETER[&amp;quot;False_Northing&amp;quot;,0.0],PARAMETER[&amp;quot;Central_Meridian&amp;quot;,-105.0],PARAMETER[&amp;quot;Scale_Factor&amp;quot;,0.9996],PARAMETER[&amp;quot;Latitude_Of_Origin&amp;quot;,0.0],UNIT[&amp;quot;Meter&amp;quot;,1.0],AUTHORITY[&amp;quot;EPSG&amp;quot;,2957]]&lt;/WKT&gt;&lt;XOrigin&gt;-5120900&lt;/XOrigin&gt;&lt;YOrigin&gt;-9998100&lt;/YOrigin&gt;&lt;XYScale&gt;450445547.3910538&lt;/XYScale&gt;&lt;ZOrigin&gt;-100000&lt;/ZOrigin&gt;&lt;ZScale&gt;10000&lt;/ZScale&gt;&lt;MOrigin&gt;-100000&lt;/MOrigin&gt;&lt;MScale&gt;10000&lt;/MScale&gt;&lt;XYTolerance&gt;0.001&lt;/XYTolerance&gt;&lt;ZTolerance&gt;0.001&lt;/ZTolerance&gt;&lt;MTolerance&gt;0.001&lt;/MTolerance&gt;&lt;HighPrecision&gt;true&lt;/HighPrecision&gt;&lt;WKID&gt;2151&lt;/WKID&gt;&lt;LatestWKID&gt;2957&lt;/LatestWKID&gt;&lt;/ProjectedCoordinateSystem&gt;</peXml>
</coordRef>
<RasterProperties>
<General>
<PixelDepth Sync="TRUE">8</PixelDepth>
<HasColormap Sync="TRUE">FALSE</HasColormap>
<CompressionType Sync="TRUE">None</CompressionType>
<NumBands Sync="TRUE">3</NumBands>
<Format Sync="TRUE">AMD</Format>
<HasPyramids Sync="TRUE">TRUE</HasPyramids>
<SourceType Sync="TRUE">continuous</SourceType>
<PixelType Sync="TRUE">unsigned integer</PixelType>
<NoDataValue Sync="TRUE"/>
</General>
<Properties>
<MaxImageHeight Sync="TRUE">4100</MaxImageHeight>
<MaxImageWidth Sync="TRUE">15000</MaxImageWidth>
<MaxRecordCount Sync="TRUE">1000</MaxRecordCount>
<MaxDownloadImageCount Sync="TRUE">0</MaxDownloadImageCount>
<MaxDownloadSizeLimit Sync="TRUE">0</MaxDownloadSizeLimit>
<MaxMosaicImageCount Sync="TRUE">20</MaxMosaicImageCount>
<DefaultCompressionQuality Sync="TRUE">75</DefaultCompressionQuality>
<DefaultCompressionTolerance Sync="TRUE">0.01</DefaultCompressionTolerance>
<BlendWidth Sync="TRUE">10</BlendWidth>
<ViewpointSpacingX Sync="TRUE">600</ViewpointSpacingX>
<ViewpointSpacingY Sync="TRUE">300</ViewpointSpacingY>
<AllowedItemMetadata Sync="TRUE">Basic</AllowedItemMetadata>
<DefaultResamplingMethod Sync="TRUE">1</DefaultResamplingMethod>
<AllowedMosaicMethods Sync="TRUE">NorthWest,ByAttribute</AllowedMosaicMethods>
<AllowedCompressions Sync="TRUE">None,JPEG,LZ77,LERC</AllowedCompressions>
<AllowedMensurationCapabilities Sync="TRUE">Basic</AllowedMensurationCapabilities>
<AvailableMensurationCapabilities Sync="TRUE">None,Basic,Base-Top Height,Top-Top Shadow Height,Base-Top Shadow Height,3D</AvailableMensurationCapabilities>
<ClipToBoundary Sync="TRUE">-1</ClipToBoundary>
<FootprintMayContainNoData Sync="TRUE">-1</FootprintMayContainNoData>
<CellSizeTolerance Sync="TRUE">0.8</CellSizeTolerance>
<MinimumPixelContribution Sync="TRUE">1</MinimumPixelContribution>
<AvailableMosaicMethods Sync="TRUE">NorthWest,Center,LockRaster,ByAttribute,Nadir,Viewpoint,Seamline,None</AvailableMosaicMethods>
<AvailableCompressionMethods Sync="TRUE">None,JPEG,LZ77,LERC</AvailableCompressionMethods>
<AvailableItemMetadataLevels Sync="TRUE">None,Basic,Full</AvailableItemMetadataLevels>
<BandDefinitionKeyword Sync="TRUE">NONE</BandDefinitionKeyword>
<AllowedFields Sync="TRUE">Name,Source,Year_of_Data,Date_of_Data,Accuracy,Resolution,Project_Area_Name,Copyright</AllowedFields>
<ClipToFootprint Sync="TRUE">-1</ClipToFootprint>
<DataType Sync="TRUE">Generic</DataType>
<LowCellSize Sync="TRUE">0.399999999999998</LowCellSize>
<HighCellSize Sync="TRUE">518.4</HighCellSize>
<MaxCellSize Sync="TRUE">0</MaxCellSize>
<ConfigKeyword Sync="TRUE"/>
<ApplyColorCorrection Sync="TRUE">0</ApplyColorCorrection>
<TimeValueFormat Sync="TRUE"/>
<EndTimeFieldName Sync="TRUE"/>
<StartTimeFieldName Sync="TRUE"/>
<TimeIntervalUnits Sync="TRUE"/>
<TimeInterval Sync="TRUE"/>
<MosaicOperator Sync="TRUE">1</MosaicOperator>
<BlendWidthUnits Sync="TRUE">1</BlendWidthUnits>
<UseTime Sync="TRUE">0</UseTime>
<SortAscending Sync="TRUE">-1</SortAscending>
<SortField Sync="TRUE">Year_of_Data</SortField>
<SortValue Sync="TRUE">0</SortValue>
</Properties>
<Functions Sync="TRUE">
<Function Description="Performs on-the-fly mosaic on a raster catalog." Name="Mosaic Function"/>
</Functions>
</RasterProperties>
</DataProperties>
<SyncDate>20200103</SyncDate>
<SyncTime>10240000</SyncTime>
<ModDate>20200103</ModDate>
<ModTime>10240000</ModTime>
</Esri>
<dataIdInfo>
<envirDesc Sync="TRUE"> Version 6.2 (Build 9200) ; Esri ArcGIS 10.6.1.9270</envirDesc>
<dataLang>
<languageCode Sync="TRUE" value="eng"/>
<countryCode Sync="TRUE" value="USA"/>
</dataLang>
<idCitation>
<resTitle Sync="TRUE">ForestService_Orthos_RGB</resTitle>
<presForm>
<PresFormCd Sync="TRUE" value="005"/>
</presForm>
</idCitation>
<spatRpType>
<SpatRepTypCd Sync="TRUE" value="002"/>
</spatRpType>
<dataExt>
<geoEle>
<GeoBndBox esriExtentType="search">
<exTypeCode Sync="TRUE">1</exTypeCode>
<westBL Sync="TRUE">-108.087861</westBL>
<eastBL Sync="TRUE">-105.608422</eastBL>
<northBL Sync="TRUE">54.865470</northBL>
<southBL Sync="TRUE">53.840575</southBL>
</GeoBndBox>
</geoEle>
</dataExt>
<idAbs>PAFMA 2011 Project: The Forest Service Branch of the Ministry of Environment acquired orthorectified RGB air photos in August 2011 to assess plough wind damage. These air photos were taken with a medium-format digital Trimble Aerial Camera (TAC) with a 60 Megapixel sensor (8984 x 6732 6u pixels) and 47mm lens. Average flying height was 3130 metres AGL. </idAbs>
<searchKeys>
<keyword>Forest Service</keyword>
<keyword>Forestry</keyword>
<keyword>Air Photos</keyword>
<keyword>Forest Management Area</keyword>
</searchKeys>
<idPurp>Orthorectified RGB air photos acquired for various Forest Service purposes. See project descriptions for more information. Date information is available where known.</idPurp>
<idCredit>Ministry of Environment, Forest Service</idCredit>
<resConst>
<Consts>
<useLimit>For public use. Use at your own risk.</useLimit>
</Consts>
</resConst>
</dataIdInfo>
<mdLang>
<languageCode Sync="TRUE" value="eng"/>
<countryCode Sync="TRUE" value="USA"/>
</mdLang>
<refSysInfo>
<RefSystem>
<refSysID>
<identCode Sync="TRUE" code="2957"/>
<idCodeSpace Sync="TRUE">EPSG</idCodeSpace>
<idVersion Sync="TRUE">6.13(9.3.0.0)</idVersion>
</refSysID>
</RefSystem>
</refSysInfo>
<spatRepInfo>
<Georect>
<cellGeo>
<CellGeoCd Sync="TRUE" value="002"/>
</cellGeo>
<numDims Sync="TRUE">2</numDims>
<tranParaAv Sync="TRUE">1</tranParaAv>
<chkPtAv Sync="TRUE">0</chkPtAv>
<cornerPts>
<pos Sync="TRUE">301661.255500 5969998.699900</pos>
</cornerPts>
<cornerPts>
<pos Sync="TRUE">301661.255500 6079999.099900</pos>
</cornerPts>
<cornerPts>
<pos Sync="TRUE">460000.855500 6079999.099900</pos>
</cornerPts>
<cornerPts>
<pos Sync="TRUE">460000.855500 5969998.699900</pos>
</cornerPts>
<centerPt>
<pos Sync="TRUE">380831.055500 6024998.899900</pos>
</centerPt>
<axisDimension type="002">
<dimSize Sync="TRUE">395849</dimSize>
<dimResol>
<value Sync="TRUE" uom="m">0.400000</value>
</dimResol>
</axisDimension>
<axisDimension type="001">
<dimSize Sync="TRUE">275001</dimSize>
<dimResol>
<value Sync="TRUE" uom="m">0.400000</value>
</dimResol>
</axisDimension>
<ptInPixel>
<PixOrientCd Sync="TRUE" value="001"/>
</ptInPixel>
</Georect>
</spatRepInfo>
<contInfo>
<ImgDesc>
<contentTyp>
<ContentTypCd Sync="TRUE" value="001"/>
</contentTyp>
<covDim>
<Band>
<dimDescrp Sync="TRUE">Band_1</dimDescrp>
<bitsPerVal Sync="TRUE">8</bitsPerVal>
<valUnit>
<UOM type="length"/>
</valUnit>
</Band>
<Band>
<dimDescrp Sync="TRUE">Band_2</dimDescrp>
<bitsPerVal Sync="TRUE">8</bitsPerVal>
<valUnit>
<UOM type="length"/>
</valUnit>
</Band>
<Band>
<dimDescrp Sync="TRUE">Band_3</dimDescrp>
<bitsPerVal Sync="TRUE">8</bitsPerVal>
<valUnit>
<UOM type="length"/>
</valUnit>
</Band>
</covDim>
</ImgDesc>
</contInfo>
<mdDateSt Sync="TRUE">20200103</mdDateSt>
</metadata>
