{
 "currentVersion": 11.5,
 "serviceDescription": "PAFMA 2011 Project: The Forest Service Branch of the Ministry of Environment acquired orthorectified RGB air photos in August 2011 to assess plough wind damage. These air photos were taken with a medium-format digital Trimble Aerial Camera (TAC) with a 60 Megapixel sensor (8984 x 6732 6u pixels) and 47mm lens. Average flying height was 3130 metres AGL. ",
 "serviceItemId": "5871c67234a241a89163f3bddc9dda7e",
 "name": "ForestService_Orthos_RGB",
 "description": "PAFMA 2011 Project: The Forest Service Branch of the Ministry of Environment acquired orthorectified RGB air photos in August 2011 to assess plough wind damage. These air photos were taken with a medium-format digital Trimble Aerial Camera (TAC) with a 60 Megapixel sensor (8984 x 6732 6u pixels) and 47mm lens. Average flying height was 3130 metres AGL. ",
 "extent": {
  "xmin": 301661.25549999997,
  "ymin": 5969998.6999,
  "xmax": 460000.855499999,
  "ymax": 6079999.0999,
  "spatialReference": {
   "wkid": 2151,
   "latestWkid": 2957
  }
 },
 "initialExtent": {
  "xmin": 301661.25549999997,
  "ymin": 5969998.6999,
  "xmax": 460000.855499999,
  "ymax": 6079999.0999,
  "spatialReference": {
   "wkid": 2151,
   "latestWkid": 2957
  }
 },
 "fullExtent": {
  "xmin": 301661.25549999997,
  "ymin": 5969998.6999,
  "xmax": 460000.855499999,
  "ymax": 6079999.0999,
  "spatialReference": {
   "wkid": 2151,
   "latestWkid": 2957
  }
 },
 "sortableFields": "",
 "bandCount": 3,
 "pixelType": "U8",
 "minValues": [],
 "maxValues": [],
 "meanValues": [],
 "stdvValues": [],
 "serviceProperties": "NorthWest<\/MosaicMethod>First<\/MosaicOperator>true<\/SortAscending><\/LockImageID>Year_of_Data<\/TileOrderField>0<\/TileOrderBase>600.000000<\/AvgImageSpacingX>300.000000<\/AvgImageSpacingY>0.0<\/ViewPointX>0.0<\/ViewPointY>0.0<\/ViewPointDefShiftX>0.0<\/ViewPointDefShiftY>None<\/CompressionMethod>75<\/CompressionQuality>0.010000<\/CompressionTolerance>Bilinear<\/SamplingMethod><\/ImageServiceProperties><\/ImageServer>",
 "allowedFields": "Name,Source,Year_of_Data,Date_of_Data,Accuracy,Resolution,Project_Area_Name,Copyright",
 "hasMultidimensions": false,
 "pixelSizeX": 0.3999999999999976,
 "pixelSizeY": 0.39999999999999797,
 "meanPixelSize": 0.3999999999999978,
 "datasetFormat": "AMD",
 "uncompressedSize": 326576612547,
 "blockWidth": 2048,
 "blockHeight": 256,
 "compressionType": "None",
 "bandNames": [
  "Band_1",
  "Band_2",
  "Band_3"
 ],
 "allowCopy": true,
 "allowAnalysis": true,
 "itemAccess": false,
 "inspectionCapabilities": "",
 "minPixelSize": 0,
 "maxPixelSize": 0,
 "copyrightText": "Ministry of Environment, Forest Service",
 "serviceDataType": "esriImageServiceDataTypeRGB",
 "serviceSourceType": "esriImageServiceSourceTypeMosaicDataset",
 "objectIdField": "OBJECTID",
 "fields": [
  {
   "name": "OBJECTID",
   "type": "esriFieldTypeOID",
   "alias": "OBJECTID",
   "domain": null
  },
  {
   "name": "Shape",
   "type": "esriFieldTypeGeometry",
   "alias": "Shape",
   "domain": null
  },
  {
   "name": "Name",
   "type": "esriFieldTypeString",
   "alias": "Name",
   "domain": null,
   "length": 200
  },
  {
   "name": "Category",
   "type": "esriFieldTypeInteger",
   "alias": "Category",
   "domain": {
    "type": "codedValue",
    "name": "MosaicCatalogItemCategoryDomain",
    "description": "Catalog item categories.",
    "codedValues": [
     {
      "name": "Unknown",
      "code": 0
     },
     {
      "name": "Primary",
      "code": 1
     },
     {
      "name": "Overview",
      "code": 2
     },
     {
      "name": "Unprocessed Overview",
      "code": 3
     },
     {
      "name": "Partial Overview",
      "code": 4
     },
     {
      "name": "Inactive",
      "code": 5
     },
     {
      "name": "Uploaded",
      "code": 253
     },
     {
      "name": "Incomplete",
      "code": 254
     },
     {
      "name": "Custom",
      "code": 255
     }
    ],
    "mergePolicy": "esriMPTDefaultValue",
    "splitPolicy": "esriSPTDefaultValue"
   }
  },
  {
   "name": "Source",
   "type": "esriFieldTypeString",
   "alias": "Source",
   "domain": null,
   "length": 50
  },
  {
   "name": "Year_of_Data",
   "type": "esriFieldTypeSmallInteger",
   "alias": "Year_of_Data",
   "domain": null
  },
  {
   "name": "Date_of_Data",
   "type": "esriFieldTypeDate",
   "alias": "Date_of_Data",
   "domain": null,
   "length": 8
  },
  {
   "name": "Accuracy",
   "type": "esriFieldTypeString",
   "alias": "Accuracy",
   "domain": null,
   "length": 50
  },
  {
   "name": "Resolution",
   "type": "esriFieldTypeSingle",
   "alias": "Resolution",
   "domain": null
  },
  {
   "name": "Project_Area_Name",
   "type": "esriFieldTypeString",
   "alias": "Project_Area_Name",
   "domain": null,
   "length": 50
  },
  {
   "name": "Copyright",
   "type": "esriFieldTypeString",
   "alias": "Copyright",
   "domain": null,
   "length": 10
  }
 ],
 "capabilities": "Catalog,Pixels,Image,Metadata",
 "defaultMosaicMethod": "Northwest",
 "allowedMosaicMethods": "NorthWest,ByAttribute",
 "sortField": "",
 "sortValue": null,
 "sortAscending": true,
 "mosaicOperator": "First",
 "maxDownloadSizeLimit": 0,
 "defaultCompressionQuality": 75,
 "defaultResamplingMethod": "Bilinear",
 "maxImageHeight": 4100,
 "maxImageWidth": 15000,
 "maxRecordCount": 1000,
 "maxDownloadImageCount": 0,
 "maxMosaicImageCount": 20,
 "allowRasterFunction": true,
 "rasterFunctionInfos": [
  {
   "name": "None",
   "description": "A No-Op Function.",
   "help": ""
  }
 ],
 "rasterTypeInfos": [
  {
   "name": "Raster Dataset",
   "description": "Supports all ArcGIS Raster Datasets",
   "help": ""
  }
 ],
 "mensurationCapabilities": "Basic",
 "hasHistograms": false,
 "hasColormap": false,
 "hasRasterAttributeTable": false,
 "minScale": 0,
 "maxScale": 0,
 "exportTilesAllowed": false,
 "supportsStatistics": true,
 "supportsAdvancedQueries": true,
 "editFieldsInfo": null,
 "ownershipBasedAccessControlForRasters": null,
 "allowComputeTiePoints": false,
 "useStandardizedQueries": true,
 "advancedQueryCapabilities": {
  "useStandardizedQueries": true,
  "supportsStatistics": true,
  "supportsOrderBy": true,
  "supportsDistinct": true,
  "supportsPagination": true
 },
 "spatialReference": {
  "wkid": 2151,
  "latestWkid": 2957
 },
 "resampling": false
}
