{
 "currentVersion": 11.5,
 "serviceDescription": "Contracts commissioned by the Saskatchewan Geospatial Imagery Collaborative (SGIC) delivered both 3-band and 4-band imagery. This mosaic combines all public imagery from the various contracts as a preformatted 3-band CIR product. The imagery consists of orthorectified and raw aerial photos. Orthorectified images can either be pre-mosaicked from multiple camera frames and cut by township or non-pre-mosaicked and not cut by township. Raws are multiple camera frames that have not gone through orthorectification. More information can be found at www.flysask2.ca.",
 "serviceItemId": "e5ff24b4a6804aef88936ecfd6cc2853",
 "name": "SGIC_Public_CIR",
 "description": "Contracts commissioned by the Saskatchewan Geospatial Imagery Collaborative (SGIC) delivered both 3-band and 4-band imagery. This mosaic combines all public imagery from the various contracts as a preformatted 3-band CIR product. The imagery consists of orthorectified and raw aerial photos. Orthorectified images can either be pre-mosaicked from multiple camera frames and cut by township or non-pre-mosaicked and not cut by township. Raws are multiple camera frames that have not gone through orthorectification. More information can be found at www.flysask2.ca.",
 "extent": {
  "xmin": 133720.04974689346,
  "ymin": 5423210.028201597,
  "xmax": 770042.3850961314,
  "ymax": 6661937.635363089,
  "spatialReference": {
   "wkid": 2151,
   "latestWkid": 2957
  }
 },
 "initialExtent": {
  "xmin": 133720.04974689346,
  "ymin": 5423210.028201597,
  "xmax": 770042.3850961314,
  "ymax": 6661937.635363089,
  "spatialReference": {
   "wkid": 2151,
   "latestWkid": 2957
  }
 },
 "fullExtent": {
  "xmin": 133720.04974689346,
  "ymin": 5423210.028201597,
  "xmax": 770042.3850961314,
  "ymax": 6661937.635363089,
  "spatialReference": {
   "wkid": 2151,
   "latestWkid": 2957
  }
 },
 "sortableFields": "",
 "bandCount": 3,
 "pixelType": "U8",
 "minValues": [],
 "maxValues": [],
 "meanValues": [],
 "stdvValues": [],
 "serviceProperties": "ByAttribute<\/MosaicMethod>First<\/MosaicOperator>true<\/SortAscending><\/LockImageID>Year_of_Data<\/TileOrderField>0<\/TileOrderBase>600.000000<\/AvgImageSpacingX>300.000000<\/AvgImageSpacingY>0.0<\/ViewPointX>0.0<\/ViewPointY>0.0<\/ViewPointDefShiftX>0.0<\/ViewPointDefShiftY>None<\/CompressionMethod>75<\/CompressionQuality>0.010000<\/CompressionTolerance>Bilinear<\/SamplingMethod><\/ImageServiceProperties><\/ImageServer>",
 "allowedFields": "Name,Source,Year_of_Data,Date_of_Data,Accuracy,Resolution,Project_Area_Name,Copyright",
 "hasMultidimensions": false,
 "timeInfo": {
  "startTimeField": "Year_of_Data",
  "endTimeField": "Year_of_Data",
  "timeExtent": [
   1167609600000,
   1451606400000
  ],
  "timeReference": null,
  "defaultTimeInterval": 1,
  "defaultTimeIntervalUnits": "esriTimeUnitsYears"
 },
 "pixelSizeX": 0.39999367333754365,
 "pixelSizeY": 0.39999367333754365,
 "meanPixelSize": 0.39999367333754365,
 "datasetFormat": "AMD",
 "uncompressedSize": 14779780851924,
 "blockWidth": 2048,
 "blockHeight": 256,
 "compressionType": "None",
 "bandNames": [
  "Band_1",
  "Band_2",
  "Band_3"
 ],
 "allowCopy": true,
 "allowAnalysis": true,
 "itemAccess": false,
 "inspectionCapabilities": "",
 "minPixelSize": 0,
 "maxPixelSize": 0,
 "copyrightText": "Saskatchewan Geospatial Imagery Collaborative (SGIC)",
 "serviceDataType": "esriImageServiceDataTypeRGB",
 "serviceSourceType": "esriImageServiceSourceTypeMosaicDataset",
 "objectIdField": "OBJECTID",
 "fields": [
  {
   "name": "OBJECTID",
   "type": "esriFieldTypeOID",
   "alias": "OBJECTID",
   "domain": null
  },
  {
   "name": "Shape",
   "type": "esriFieldTypeGeometry",
   "alias": "Shape",
   "domain": null
  },
  {
   "name": "Name",
   "type": "esriFieldTypeString",
   "alias": "Name",
   "domain": null,
   "length": 200
  },
  {
   "name": "Category",
   "type": "esriFieldTypeInteger",
   "alias": "Category",
   "domain": {
    "type": "codedValue",
    "name": "MosaicCatalogItemCategoryDomain",
    "description": "Catalog item categories.",
    "codedValues": [
     {
      "name": "Unknown",
      "code": 0
     },
     {
      "name": "Primary",
      "code": 1
     },
     {
      "name": "Overview",
      "code": 2
     },
     {
      "name": "Unprocessed Overview",
      "code": 3
     },
     {
      "name": "Partial Overview",
      "code": 4
     },
     {
      "name": "Inactive",
      "code": 5
     },
     {
      "name": "Uploaded",
      "code": 253
     },
     {
      "name": "Incomplete",
      "code": 254
     },
     {
      "name": "Custom",
      "code": 255
     }
    ],
    "mergePolicy": "esriMPTDefaultValue",
    "splitPolicy": "esriSPTDefaultValue"
   }
  },
  {
   "name": "Source",
   "type": "esriFieldTypeString",
   "alias": "Source",
   "domain": null,
   "length": 50
  },
  {
   "name": "Year_of_Data",
   "type": "esriFieldTypeSmallInteger",
   "alias": "Year_of_Data",
   "domain": null
  },
  {
   "name": "Date_of_Data",
   "type": "esriFieldTypeDate",
   "alias": "Date_of_Data",
   "domain": null,
   "length": 8
  },
  {
   "name": "Accuracy",
   "type": "esriFieldTypeString",
   "alias": "Accuracy",
   "domain": null,
   "length": 50
  },
  {
   "name": "Resolution",
   "type": "esriFieldTypeSingle",
   "alias": "Resolution",
   "domain": null
  },
  {
   "name": "Project_Area_Name",
   "type": "esriFieldTypeString",
   "alias": "Project_Area_Name",
   "domain": null,
   "length": 50
  },
  {
   "name": "Copyright",
   "type": "esriFieldTypeString",
   "alias": "Copyright",
   "domain": null,
   "length": 10
  }
 ],
 "capabilities": "Image,Metadata,Pixels,Catalog",
 "defaultMosaicMethod": "ByAttribute",
 "allowedMosaicMethods": "ByAttribute",
 "sortField": "Year_of_Data",
 "sortValue": "0",
 "sortAscending": true,
 "mosaicOperator": "First",
 "maxDownloadSizeLimit": 0,
 "defaultCompressionQuality": 75,
 "defaultResamplingMethod": "Bilinear",
 "maxImageHeight": 4100,
 "maxImageWidth": 15000,
 "maxRecordCount": 1000,
 "maxDownloadImageCount": 0,
 "maxMosaicImageCount": 100,
 "allowRasterFunction": true,
 "rasterFunctionInfos": [
  {
   "name": "None",
   "description": "A No-Op Function.",
   "help": ""
  }
 ],
 "rasterTypeInfos": [
  {
   "name": "Raster Dataset",
   "description": "Supports all ArcGIS Raster Datasets",
   "help": ""
  }
 ],
 "mensurationCapabilities": "Basic",
 "hasHistograms": false,
 "hasColormap": false,
 "hasRasterAttributeTable": false,
 "minScale": 0,
 "maxScale": 0,
 "exportTilesAllowed": false,
 "supportsStatistics": true,
 "supportsAdvancedQueries": true,
 "editFieldsInfo": null,
 "ownershipBasedAccessControlForRasters": null,
 "allowComputeTiePoints": false,
 "useStandardizedQueries": true,
 "advancedQueryCapabilities": {
  "useStandardizedQueries": true,
  "supportsStatistics": true,
  "supportsOrderBy": true,
  "supportsDistinct": true,
  "supportsPagination": true
 },
 "spatialReference": {
  "wkid": 2151,
  "latestWkid": 2957
 }
}
