{
 "currentVersion": 11.5,
 "serviceDescription": "Contracts commissioned by the Saskatchewan Geospatial Imagery Collaborative (SGIC) delivered DEM data. This mosaic combines all public DEM data from various contracts at resolutions of 4, 30, and 50. ",
 "serviceItemId": "1a8c33be80384d04bc93a58884fc0b21",
 "name": "SGIC_Public_DEM",
 "description": "Contracts commissioned by the Saskatchewan Geospatial Imagery Collaborative (SGIC) delivered DEM data. This mosaic combines all public DEM data from various contracts at resolutions of 4, 30, and 50. ",
 "extent": {
  "xmin": 135242.3604100513,
  "ymin": 5427340.5177100105,
  "xmax": 766085.6775099982,
  "ymax": 6655155.970269907,
  "spatialReference": {
   "wkid": 2151,
   "latestWkid": 2957
  }
 },
 "initialExtent": {
  "xmin": 135242.3604100513,
  "ymin": 5427340.5177100105,
  "xmax": 766085.6775099982,
  "ymax": 6655155.970269907,
  "spatialReference": {
   "wkid": 2151,
   "latestWkid": 2957
  }
 },
 "fullExtent": {
  "xmin": 135242.3604100513,
  "ymin": 5427340.5177100105,
  "xmax": 766085.6775099982,
  "ymax": 6655155.970269907,
  "spatialReference": {
   "wkid": 2151,
   "latestWkid": 2957
  }
 },
 "sortableFields": "",
 "bandCount": 1,
 "pixelType": "S16",
 "minValues": [
  209
 ],
 "maxValues": [
  1384
 ],
 "meanValues": [
  543.3979454292894
 ],
 "stdvValues": [
  148.55224395597216
 ],
 "serviceProperties": "NorthWest<\/MosaicMethod>First<\/MosaicOperator>true<\/SortAscending><\/LockImageID>Year_of_Data<\/TileOrderField>0<\/TileOrderBase>600.000000<\/AvgImageSpacingX>300.000000<\/AvgImageSpacingY>0.0<\/ViewPointX>0.0<\/ViewPointY>0.0<\/ViewPointDefShiftX>0.0<\/ViewPointDefShiftY>None<\/CompressionMethod>75<\/CompressionQuality>0.010000<\/CompressionTolerance>Bilinear<\/SamplingMethod><\/ImageServiceProperties><\/ImageServer>",
 "allowedFields": "Name,Source,Year_of_Data,Date_of_Data,Accuracy,Resolution,Project_Area_Name,Copyright",
 "hasMultidimensions": false,
 "timeInfo": {
  "startTimeField": "Year_of_Data",
  "endTimeField": "Year_of_Data",
  "timeExtent": [
   1199145600000,
   1451606400000
  ],
  "timeReference": null,
  "defaultTimeInterval": 1,
  "defaultTimeIntervalUnits": "esriTimeUnitsYears"
 },
 "pixelSizeX": 4.960629999999583,
 "pixelSizeY": 4.960629999999583,
 "meanPixelSize": 4.960629999999583,
 "datasetFormat": "AMD",
 "uncompressedSize": 62952202080,
 "blockWidth": 2048,
 "blockHeight": 256,
 "compressionType": "None",
 "bandNames": [
  "Band_1"
 ],
 "allowCopy": true,
 "allowAnalysis": true,
 "itemAccess": false,
 "inspectionCapabilities": "",
 "minPixelSize": 0,
 "maxPixelSize": 0,
 "copyrightText": "Saskatchewan Geospatial Imagery Collaborative (SGIC)",
 "serviceDataType": "esriImageServiceDataTypeGeneric",
 "serviceSourceType": "esriImageServiceSourceTypeMosaicDataset",
 "objectIdField": "OBJECTID",
 "fields": [
  {
   "name": "OBJECTID",
   "type": "esriFieldTypeOID",
   "alias": "OBJECTID",
   "domain": null
  },
  {
   "name": "Shape",
   "type": "esriFieldTypeGeometry",
   "alias": "Shape",
   "domain": null
  },
  {
   "name": "Name",
   "type": "esriFieldTypeString",
   "alias": "Name",
   "domain": null,
   "length": 200
  },
  {
   "name": "Category",
   "type": "esriFieldTypeInteger",
   "alias": "Category",
   "domain": {
    "type": "codedValue",
    "name": "MosaicCatalogItemCategoryDomain",
    "description": "Catalog item categories.",
    "codedValues": [
     {
      "name": "Unknown",
      "code": 0
     },
     {
      "name": "Primary",
      "code": 1
     },
     {
      "name": "Overview",
      "code": 2
     },
     {
      "name": "Unprocessed Overview",
      "code": 3
     },
     {
      "name": "Partial Overview",
      "code": 4
     },
     {
      "name": "Inactive",
      "code": 5
     },
     {
      "name": "Uploaded",
      "code": 253
     },
     {
      "name": "Incomplete",
      "code": 254
     },
     {
      "name": "Custom",
      "code": 255
     }
    ],
    "mergePolicy": "esriMPTDefaultValue",
    "splitPolicy": "esriSPTDefaultValue"
   }
  },
  {
   "name": "Source",
   "type": "esriFieldTypeString",
   "alias": "Source",
   "domain": null,
   "length": 50
  },
  {
   "name": "Year_of_Data",
   "type": "esriFieldTypeSmallInteger",
   "alias": "Year_of_Data",
   "domain": null
  },
  {
   "name": "Date_of_Data",
   "type": "esriFieldTypeDate",
   "alias": "Date_of_Data",
   "domain": null,
   "length": 8
  },
  {
   "name": "Accuracy",
   "type": "esriFieldTypeString",
   "alias": "Accuracy",
   "domain": null,
   "length": 50
  },
  {
   "name": "Resolution",
   "type": "esriFieldTypeSingle",
   "alias": "Resolution",
   "domain": null
  },
  {
   "name": "Project_Area_Name",
   "type": "esriFieldTypeString",
   "alias": "Project_Area_Name",
   "domain": null,
   "length": 50
  },
  {
   "name": "Copyright",
   "type": "esriFieldTypeString",
   "alias": "Copyright",
   "domain": null,
   "length": 10
  }
 ],
 "capabilities": "Image,Metadata,Pixels,Catalog",
 "defaultMosaicMethod": "Northwest",
 "allowedMosaicMethods": "NorthWest,ByAttribute",
 "sortField": "",
 "sortValue": null,
 "sortAscending": true,
 "mosaicOperator": "First",
 "maxDownloadSizeLimit": 0,
 "defaultCompressionQuality": 75,
 "defaultResamplingMethod": "Bilinear",
 "maxImageHeight": 4100,
 "maxImageWidth": 15000,
 "maxRecordCount": 1000,
 "maxDownloadImageCount": 0,
 "maxMosaicImageCount": 150,
 "allowRasterFunction": true,
 "rasterFunctionInfos": [
  {
   "name": "None",
   "description": "A No-Op Function.",
   "help": ""
  }
 ],
 "rasterTypeInfos": [
  {
   "name": "Raster Dataset",
   "description": "Supports all ArcGIS Raster Datasets",
   "help": ""
  }
 ],
 "mensurationCapabilities": "Basic",
 "hasHistograms": true,
 "hasColormap": false,
 "hasRasterAttributeTable": false,
 "minScale": 0,
 "maxScale": 0,
 "exportTilesAllowed": false,
 "supportsStatistics": true,
 "supportsAdvancedQueries": true,
 "editFieldsInfo": null,
 "ownershipBasedAccessControlForRasters": null,
 "allowComputeTiePoints": false,
 "useStandardizedQueries": true,
 "advancedQueryCapabilities": {
  "useStandardizedQueries": true,
  "supportsStatistics": true,
  "supportsOrderBy": true,
  "supportsDistinct": true,
  "supportsPagination": true
 },
 "spatialReference": {
  "wkid": 2151,
  "latestWkid": 2957
 }
}
