<?xml version="1.0" encoding="UTF-8" standalone="no"?>
<metadata xml:lang="en">
<Esri>
<CreaDate>20180924</CreaDate>
<CreaTime>17335800</CreaTime>
<ArcGISFormat>1.0</ArcGISFormat>
<SyncOnce>FALSE</SyncOnce>
<DataProperties>
<lineage>
<Process Date="20180924" Time="173358" ToolSource="c:\program files (x86)\arcgis\desktop10.5\ArcToolbox\Toolboxes\Data Management Tools.tbx\CreateReferencedMosaicDataset">CreateReferencedMosaicDataset \\nyx-galli\eGIS\Data\Raster\Imagery\Aerial\SGIC\Derived_Mosaics.gdb\DD_SGIC_ALL_Orthophotos_new \\nyx-galli\eGIS\Data\Raster\Imagery\Aerial\SGIC\Derived_Mosaics.gdb\R_SGIC_ALL_Orthophotos_new "PROJCS['NAD_1983_CSRS_UTM_Zone_13N',GEOGCS['GCS_North_American_1983_CSRS',DATUM['D_North_American_1983_CSRS',SPHEROID['GRS_1980',6378137.0,298.257222101]],PRIMEM['Greenwich',0.0],UNIT['Degree',0.0174532925199433]],PROJECTION['Transverse_Mercator'],PARAMETER['False_Easting',500000.0],PARAMETER['False_Northing',0.0],PARAMETER['Central_Meridian',-105.0],PARAMETER['Scale_Factor',0.9996],PARAMETER['Latitude_Of_Origin',0.0],UNIT['Meter',1.0]];-5120900 -9998100 10000;-100000 10000;-100000 10000;0.001;0.001;0.001;IsHighPrecision" # # "Copyright &lt;&gt; 'SGIC'" # # SELECT_USING_FEATURES # # # # BUILD_BOUNDARY</Process>
<Process Date="20180924" Time="174418" ToolSource="c:\program files (x86)\arcgis\desktop10.5\ArcToolbox\Toolboxes\Data Management Tools.tbx\AnalyzeMosaicDataset">AnalyzeMosaicDataset \\nyx-galli\eGIS\Data\Raster\Imagery\Aerial\SGIC\Derived_Mosaics.gdb\R_SGIC_Public_Orthophotos_new # FOOTPRINT;FUNCTION;RASTER;PATHS</Process>
<Process Date="20180924" Time="174704" ToolSource="c:\program files (x86)\arcgis\desktop10.5\ArcToolbox\Toolboxes\Data Management Tools.tbx\AnalyzeMosaicDataset">AnalyzeMosaicDataset \\nyx-galli\eGIS\Data\Raster\Imagery\Aerial\SGIC\Derived_Mosaics.gdb\R_SGIC_Public_Orthophotos_new # FOOTPRINT;FUNCTION;RASTER;PATHS</Process>
<Process Date="20181120" Time="152512" ToolSource="c:\program files (x86)\arcgis\desktop10.5\ArcToolbox\Toolboxes\Data Management Tools.tbx\AnalyzeMosaicDataset">AnalyzeMosaicDataset \\nyx-galli\eGIS\Data\Raster\Imagery\Aerial\SGIC\Derived_Mosaics.gdb\R_SGIC_Public_Orthophotos_new # FOOTPRINT;FUNCTION;RASTER;PATHS</Process>
<Process Date="20200922" Time="130750" ToolSource="c:\program files (x86)\arcgis\desktop10.6\ArcToolbox\Toolboxes\Data Management Tools.tbx\BuildBoundary">BuildBoundary \\nyx-galli\eGIS\Data\Raster\Imagery\Aerial\SGIC\Derived_Mosaics.gdb\R_SGIC_Public_Orthophotos_new # OVERWRITE NONE</Process>
</lineage>
<itemProps>
<itemName Sync="TRUE">R_SGIC_Public_Orthophotos_new</itemName>
<itemLocation>
<linkage Sync="TRUE">file://\\nyx-galli\eGIS\Data\Raster\Imagery\Aerial\SGIC\Derived_Mosaics.gdb</linkage>
<protocol Sync="TRUE">Local Area Network</protocol>
</itemLocation>
<nativeExtBox>
<westBL Sync="TRUE">133719.992200</westBL>
<eastBL Sync="TRUE">766090.790050</eastBL>
<southBL Sync="TRUE">5427344.227446</southBL>
<northBL Sync="TRUE">6661937.500000</northBL>
<exTypeCode Sync="TRUE">1</exTypeCode>
</nativeExtBox>
</itemProps>
<coordRef>
<type Sync="TRUE">Projected</type>
<geogcsn Sync="TRUE">GCS_North_American_1983_CSRS</geogcsn>
<csUnits Sync="TRUE">Linear Unit: Meter (1.000000)</csUnits>
<projcsn Sync="TRUE">NAD_1983_CSRS_UTM_Zone_13N</projcsn>
<peXml Sync="TRUE">&lt;ProjectedCoordinateSystem xsi:type='typens:ProjectedCoordinateSystem' xmlns:xsi='http://www.w3.org/2001/XMLSchema-instance' xmlns:xs='http://www.w3.org/2001/XMLSchema' xmlns:typens='http://www.esri.com/schemas/ArcGIS/10.6'&gt;&lt;WKT&gt;PROJCS[&amp;quot;NAD_1983_CSRS_UTM_Zone_13N&amp;quot;,GEOGCS[&amp;quot;GCS_North_American_1983_CSRS&amp;quot;,DATUM[&amp;quot;D_North_American_1983_CSRS&amp;quot;,SPHEROID[&amp;quot;GRS_1980&amp;quot;,6378137.0,298.257222101]],PRIMEM[&amp;quot;Greenwich&amp;quot;,0.0],UNIT[&amp;quot;Degree&amp;quot;,0.0174532925199433]],PROJECTION[&amp;quot;Transverse_Mercator&amp;quot;],PARAMETER[&amp;quot;False_Easting&amp;quot;,500000.0],PARAMETER[&amp;quot;False_Northing&amp;quot;,0.0],PARAMETER[&amp;quot;Central_Meridian&amp;quot;,-105.0],PARAMETER[&amp;quot;Scale_Factor&amp;quot;,0.9996],PARAMETER[&amp;quot;Latitude_Of_Origin&amp;quot;,0.0],UNIT[&amp;quot;Meter&amp;quot;,1.0],AUTHORITY[&amp;quot;EPSG&amp;quot;,2957]]&lt;/WKT&gt;&lt;XOrigin&gt;-5120900&lt;/XOrigin&gt;&lt;YOrigin&gt;-9998100&lt;/YOrigin&gt;&lt;XYScale&gt;450445547.3910538&lt;/XYScale&gt;&lt;ZOrigin&gt;-100000&lt;/ZOrigin&gt;&lt;ZScale&gt;10000&lt;/ZScale&gt;&lt;MOrigin&gt;-100000&lt;/MOrigin&gt;&lt;MScale&gt;10000&lt;/MScale&gt;&lt;XYTolerance&gt;0.001&lt;/XYTolerance&gt;&lt;ZTolerance&gt;0.001&lt;/ZTolerance&gt;&lt;MTolerance&gt;0.001&lt;/MTolerance&gt;&lt;HighPrecision&gt;true&lt;/HighPrecision&gt;&lt;WKID&gt;2151&lt;/WKID&gt;&lt;LatestWKID&gt;2957&lt;/LatestWKID&gt;&lt;/ProjectedCoordinateSystem&gt;</peXml>
</coordRef>
<RasterProperties>
<General>
<PixelDepth Sync="TRUE">8</PixelDepth>
<HasColormap Sync="TRUE">FALSE</HasColormap>
<CompressionType Sync="TRUE">None</CompressionType>
<NumBands Sync="TRUE">4</NumBands>
<Format Sync="TRUE">AMD</Format>
<HasPyramids Sync="TRUE">TRUE</HasPyramids>
<SourceType Sync="TRUE">continuous</SourceType>
<PixelType Sync="TRUE">unsigned integer</PixelType>
<NoDataValue Sync="TRUE"/>
</General>
<Properties>
<MaxImageHeight Sync="TRUE">4100</MaxImageHeight>
<MaxImageWidth Sync="TRUE">15000</MaxImageWidth>
<MaxRecordCount Sync="TRUE">1000</MaxRecordCount>
<MaxDownloadImageCount Sync="TRUE">0</MaxDownloadImageCount>
<MaxDownloadSizeLimit Sync="TRUE">0</MaxDownloadSizeLimit>
<MaxMosaicImageCount Sync="TRUE">110</MaxMosaicImageCount>
<DefaultCompressionQuality Sync="TRUE">75</DefaultCompressionQuality>
<DefaultCompressionTolerance Sync="TRUE">0.01</DefaultCompressionTolerance>
<BlendWidth Sync="TRUE">10</BlendWidth>
<ViewpointSpacingX Sync="TRUE">600</ViewpointSpacingX>
<ViewpointSpacingY Sync="TRUE">300</ViewpointSpacingY>
<AllowedItemMetadata Sync="TRUE">Basic</AllowedItemMetadata>
<DefaultResamplingMethod Sync="TRUE">1</DefaultResamplingMethod>
<AllowedMosaicMethods Sync="TRUE">NorthWest,ByAttribute</AllowedMosaicMethods>
<AllowedCompressions Sync="TRUE">None,JPEG,LZ77,LERC</AllowedCompressions>
<AllowedMensurationCapabilities Sync="TRUE">Basic</AllowedMensurationCapabilities>
<AvailableMensurationCapabilities Sync="TRUE">None,Basic,Base-Top Height,Top-Top Shadow Height,Base-Top Shadow Height,3D</AvailableMensurationCapabilities>
<ClipToBoundary Sync="TRUE">0</ClipToBoundary>
<FootprintMayContainNoData Sync="TRUE">-1</FootprintMayContainNoData>
<CellSizeTolerance Sync="TRUE">0.8</CellSizeTolerance>
<MinimumPixelContribution Sync="TRUE">1</MinimumPixelContribution>
<AvailableMosaicMethods Sync="TRUE">NorthWest,Center,LockRaster,ByAttribute,Nadir,Viewpoint,Seamline,None</AvailableMosaicMethods>
<AvailableCompressionMethods Sync="TRUE">None,JPEG,LZ77,LERC</AvailableCompressionMethods>
<AvailableItemMetadataLevels Sync="TRUE">None,Basic,Full</AvailableItemMetadataLevels>
<BandDefinitionKeyword Sync="TRUE">NONE</BandDefinitionKeyword>
<AllowedFields Sync="TRUE">Name,Source,Year_of_Data,Date_of_Data,Accuracy,Resolution,Project_Area_Name,Copyright</AllowedFields>
<ClipToFootprint Sync="TRUE">-1</ClipToFootprint>
<DataType Sync="TRUE">Generic</DataType>
<ApplyColorCorrection Sync="TRUE">0</ApplyColorCorrection>
<TimeValueFormat Sync="TRUE">YYYY</TimeValueFormat>
<EndTimeFieldName Sync="TRUE">Year_of_Data</EndTimeFieldName>
<StartTimeFieldName Sync="TRUE">Year_of_Data</StartTimeFieldName>
<TimeIntervalUnits Sync="TRUE">Years</TimeIntervalUnits>
<TimeInterval Sync="TRUE">1</TimeInterval>
<VerticalDimension Sync="TRUE"/>
<FlowDirection Sync="TRUE"/>
<MosaicOperator Sync="TRUE">1</MosaicOperator>
<BlendWidthUnits Sync="TRUE">1</BlendWidthUnits>
<UseTime Sync="TRUE">-1</UseTime>
<SortAscending Sync="TRUE">-1</SortAscending>
<SortField Sync="TRUE">Year_of_Data</SortField>
<SortValue Sync="TRUE">0</SortValue>
<ConfigKeyword Sync="TRUE"/>
<LowCellSize Sync="TRUE">0.399993673337544</LowCellSize>
<HighCellSize Sync="TRUE">2187</HighCellSize>
<MaxCellSize Sync="TRUE">1.59997469335017</MaxCellSize>
</Properties>
<Functions Sync="TRUE">
<Function Description="Performs on-the-fly mosaic on a raster catalog." Name="Mosaic Function"/>
</Functions>
</RasterProperties>
</DataProperties>
<SyncDate>20210509</SyncDate>
<SyncTime>17512100</SyncTime>
<ModDate>20210509</ModDate>
<ModTime>17512100</ModTime>
</Esri>
<dataIdInfo>
<envirDesc Sync="TRUE"> Version 6.2 (Build 9200) ; Esri ArcGIS 10.6.1.9270</envirDesc>
<dataLang>
<languageCode Sync="TRUE" value="eng"/>
<countryCode Sync="TRUE" value="USA"/>
</dataLang>
<idCitation>
<resTitle Sync="TRUE">SGIC_Public_Orthophotos</resTitle>
<presForm>
<PresFormCd Sync="TRUE" value="005"/>
</presForm>
</idCitation>
<spatRpType>
<SpatRepTypCd Sync="TRUE" value="002"/>
</spatRpType>
<dataExt>
<geoEle>
<GeoBndBox esriExtentType="search">
<exTypeCode Sync="TRUE">1</exTypeCode>
<westBL Sync="TRUE">-111.560357</westBL>
<eastBL Sync="TRUE">-100.225489</eastBL>
<northBL Sync="TRUE">60.094518</northBL>
<southBL Sync="TRUE">48.890594</southBL>
</GeoBndBox>
</geoEle>
</dataExt>
<idAbs>The SGIC Orthophotography Project provides seamless, accurate province wide ortho-rectified nadir aerial photography and elevation data of the earth's surface for use in geographic information systems (GIS). The program intends to acquire imagery with a 100 metre buffer beyond the provincial border. The color orthophotos are pre-mosaiced then cut into township tiles before being delivered to the collaborative. Color infrared imagery, RAW images, AT files and a digital elevation model also exist for this area of imagery. The Saskatchewan Geospatial Imagery Collaborative (SGIC) was formed to acquire new aerial photography and satellite imagery of the province. The SGIC is made up of 29 participating organizations including Provincial Government, Crown Corporations, Municipalities, Federal Government, Universities, First Nations, Community Organizations, and Industry. A current list of SGIC members can be found on the imagery access website at www.flysask.ca.</idAbs>
<searchKeys>
<keyword>SGIC</keyword>
<keyword>Flysask.ca</keyword>
<keyword>Orthophotography</keyword>
<keyword>Air Photography</keyword>
<keyword>infrared</keyword>
<keyword>CIR</keyword>
<keyword>RGB</keyword>
<keyword>RGBN</keyword>
<keyword>Saskatchewan</keyword>
<keyword>Canada</keyword>
<keyword>Airphoto</keyword>
</searchKeys>
<idPurp>This is a Referenced Mosaic Dataset of all* the RGB and RGBN air photography that is acquired during Saskatchewan Geospatial Imagery Collaborative (SGIC)...</idPurp>
<idCredit>Saskatchewan Geospatial Imagery Collaborative (SGIC)</idCredit>
<resConst>
<Consts>
<useLimit>For background image services on public websites. No further commercial re-distribution.</useLimit>
</Consts>
</resConst>
</dataIdInfo>
<mdLang>
<languageCode Sync="TRUE" value="eng"/>
<countryCode Sync="TRUE" value="USA"/>
</mdLang>
<refSysInfo>
<RefSystem>
<refSysID>
<identCode Sync="TRUE" code="2957"/>
<idCodeSpace Sync="TRUE">EPSG</idCodeSpace>
<idVersion Sync="TRUE">6.13(9.3.0.0)</idVersion>
</refSysID>
</RefSystem>
</refSysInfo>
<spatRepInfo>
<Georect>
<cellGeo>
<CellGeoCd Sync="TRUE" value="002"/>
</cellGeo>
<numDims Sync="TRUE">2</numDims>
<tranParaAv Sync="TRUE">1</tranParaAv>
<chkPtAv Sync="TRUE">0</chkPtAv>
<cornerPts>
<pos Sync="TRUE">133719.992200 5427344.227446</pos>
</cornerPts>
<cornerPts>
<pos Sync="TRUE">133719.992200 6661937.500000</pos>
</cornerPts>
<cornerPts>
<pos Sync="TRUE">766090.790050 6661937.500000</pos>
</cornerPts>
<cornerPts>
<pos Sync="TRUE">766090.790050 5427344.227446</pos>
</cornerPts>
<centerPt>
<pos Sync="TRUE">449905.391125 6044640.863723</pos>
</centerPt>
<axisDimension type="002">
<dimSize Sync="TRUE">1580952</dimSize>
<dimResol>
<value Sync="TRUE" uom="m">0.399994</value>
</dimResol>
</axisDimension>
<axisDimension type="001">
<dimSize Sync="TRUE">3086532</dimSize>
<dimResol>
<value Sync="TRUE" uom="m">0.399994</value>
</dimResol>
</axisDimension>
<ptInPixel>
<PixOrientCd Sync="TRUE" value="001"/>
</ptInPixel>
</Georect>
</spatRepInfo>
<contInfo>
<ImgDesc>
<contentTyp>
<ContentTypCd Sync="TRUE" value="001"/>
</contentTyp>
<covDim>
<Band>
<dimDescrp Sync="TRUE">Band_1</dimDescrp>
<bitsPerVal Sync="TRUE">8</bitsPerVal>
<valUnit>
<UOM type="length"/>
</valUnit>
</Band>
<Band>
<dimDescrp Sync="TRUE">Band_2</dimDescrp>
<bitsPerVal Sync="TRUE">8</bitsPerVal>
<valUnit>
<UOM type="length"/>
</valUnit>
</Band>
<Band>
<dimDescrp Sync="TRUE">Band_3</dimDescrp>
<bitsPerVal Sync="TRUE">8</bitsPerVal>
<valUnit>
<UOM type="length"/>
</valUnit>
</Band>
<Band>
<dimDescrp Sync="TRUE">Band_4</dimDescrp>
<bitsPerVal Sync="TRUE">8</bitsPerVal>
<valUnit>
<UOM type="length"/>
</valUnit>
</Band>
</covDim>
</ImgDesc>
</contInfo>
<mdDateSt Sync="TRUE">20210509</mdDateSt>
</metadata>
