{
 "currentVersion": 11.5,
 "serviceDescription": "The Shuttle Radar Topography Mission (SRTM) aboard Endeavour was launched February 11, 2000 for an international project between the National Aeronautics and Space Administration (NASA), the National Geospatial-Intelligence Agency (NGA), the German and Italian space agencies. Endeavour orbited Earth 16 times each day during the 11 day SRTM. Radar data was collected for over 80% of the Earth\u2019s surface between 60N and 56S. \n\nThe radars used during the SRTM mission were flown on Endeavour missions in 1994. The C-band Spaceborne Imaging Radar and the X-Band Synthetic Aperture Radar (X-SAR). The technology was modified for the SRTM mission to collect interferometric radar. This mission used single-pass interferometry, which acquired two signals at the same time by using two different radar antennas. An antenna located on board the space shuttle collected one data set and the other data set was collected by an antenna located at the end of a 60-meter mast that extended from the shuttle. Differences between the two signals allowed for the calculation of surface elevation.",
 "serviceItemId": "eb80a959dc024bf092526063cabe15d0",
 "name": "ShuttleRadarTopoMission_1arcsec",
 "description": "The Shuttle Radar Topography Mission (SRTM) aboard Endeavour was launched February 11, 2000 for an international project between the National Aeronautics and Space Administration (NASA), the National Geospatial-Intelligence Agency (NGA), the German and Italian space agencies. Endeavour orbited Earth 16 times each day during the 11 day SRTM. Radar data was collected for over 80% of the Earth\u2019s surface between 60N and 56S. \n\nThe radars used during the SRTM mission were flown on Endeavour missions in 1994. The C-band Spaceborne Imaging Radar and the X-Band Synthetic Aperture Radar (X-SAR). The technology was modified for the SRTM mission to collect interferometric radar. This mission used single-pass interferometry, which acquired two signals at the same time by using two different radar antennas. An antenna located on board the space shuttle collected one data set and the other data set was collected by an antenna located at the end of a 60-meter mast that extended from the shuttle. Differences between the two signals allowed for the calculation of surface elevation.",
 "extent": {
  "xmin": -112.00027777799994,
  "ymin": 47.99986111122229,
  "xmax": -100.99972222244442,
  "ymax": 60.00013888900003,
  "spatialReference": {
   "wkid": 4326,
   "latestWkid": 4326
  }
 },
 "initialExtent": {
  "xmin": -112.00027777799994,
  "ymin": 47.99986111122229,
  "xmax": -100.99972222244442,
  "ymax": 60.00013888900003,
  "spatialReference": {
   "wkid": 4326,
   "latestWkid": 4326
  }
 },
 "fullExtent": {
  "xmin": -112.00027777799994,
  "ymin": 47.99986111122229,
  "xmax": -100.99972222244442,
  "ymax": 60.00013888900003,
  "spatialReference": {
   "wkid": 4326,
   "latestWkid": 4326
  }
 },
 "sortableFields": "",
 "bandCount": 1,
 "pixelType": "S16",
 "minValues": [
  169
 ],
 "maxValues": [
  2029
 ],
 "meanValues": [
  528.1703805329744
 ],
 "stdvValues": [
  173.4806975692599
 ],
 "serviceProperties": "NorthWest<\/MosaicMethod>First<\/MosaicOperator>true<\/SortAscending><\/LockImageID>Year_of_Data<\/TileOrderField>0<\/TileOrderBase>600.000000<\/AvgImageSpacingX>300.000000<\/AvgImageSpacingY>0.0<\/ViewPointX>0.0<\/ViewPointY>0.0<\/ViewPointDefShiftX>0.0<\/ViewPointDefShiftY>None<\/CompressionMethod>75<\/CompressionQuality>0.010000<\/CompressionTolerance>Bilinear<\/SamplingMethod><\/ImageServiceProperties><\/ImageServer>",
 "allowedFields": "Name,Source,Year_of_Data,Date_of_Data,Accuracy,Resolution,Project_Area_Name,Copyright",
 "hasMultidimensions": false,
 "pixelSizeX": 2.777777777777769E-4,
 "pixelSizeY": 2.777777777777769E-4,
 "meanPixelSize": 30.922080775909226,
 "datasetFormat": "AMD",
 "uncompressedSize": 3421692004,
 "blockWidth": 2048,
 "blockHeight": 256,
 "compressionType": "None",
 "bandNames": [
  "Band_1"
 ],
 "allowCopy": true,
 "allowAnalysis": true,
 "itemAccess": false,
 "inspectionCapabilities": "",
 "minPixelSize": 0,
 "maxPixelSize": 0,
 "copyrightText": "National Aeronautics and Space Administration (NASA) and National Geospatial-Intelligence Agency (NGA)",
 "serviceDataType": "esriImageServiceDataTypeGeneric",
 "serviceSourceType": "esriImageServiceSourceTypeMosaicDataset",
 "objectIdField": "OBJECTID",
 "fields": [
  {
   "name": "OBJECTID",
   "type": "esriFieldTypeOID",
   "alias": "OBJECTID",
   "domain": null
  },
  {
   "name": "Shape",
   "type": "esriFieldTypeGeometry",
   "alias": "Shape",
   "domain": null
  },
  {
   "name": "Name",
   "type": "esriFieldTypeString",
   "alias": "Name",
   "domain": null,
   "length": 200
  },
  {
   "name": "Category",
   "type": "esriFieldTypeInteger",
   "alias": "Category",
   "domain": {
    "type": "codedValue",
    "name": "MosaicCatalogItemCategoryDomain",
    "description": "Catalog item categories.",
    "codedValues": [
     {
      "name": "Unknown",
      "code": 0
     },
     {
      "name": "Primary",
      "code": 1
     },
     {
      "name": "Overview",
      "code": 2
     },
     {
      "name": "Unprocessed Overview",
      "code": 3
     },
     {
      "name": "Partial Overview",
      "code": 4
     },
     {
      "name": "Inactive",
      "code": 5
     },
     {
      "name": "Uploaded",
      "code": 253
     },
     {
      "name": "Incomplete",
      "code": 254
     },
     {
      "name": "Custom",
      "code": 255
     }
    ],
    "mergePolicy": "esriMPTDefaultValue",
    "splitPolicy": "esriSPTDefaultValue"
   }
  },
  {
   "name": "Source",
   "type": "esriFieldTypeString",
   "alias": "Source",
   "domain": null,
   "length": 50
  },
  {
   "name": "Year_of_Data",
   "type": "esriFieldTypeSmallInteger",
   "alias": "Year_of_Data",
   "domain": null
  },
  {
   "name": "Date_of_Data",
   "type": "esriFieldTypeDate",
   "alias": "Date_of_Data",
   "domain": null,
   "length": 8
  },
  {
   "name": "Accuracy",
   "type": "esriFieldTypeString",
   "alias": "Accuracy",
   "domain": null,
   "length": 100
  },
  {
   "name": "Resolution",
   "type": "esriFieldTypeSingle",
   "alias": "Resolution",
   "domain": null
  },
  {
   "name": "Project_Area_Name",
   "type": "esriFieldTypeString",
   "alias": "Project_Area_Name",
   "domain": null,
   "length": 50
  },
  {
   "name": "Copyright",
   "type": "esriFieldTypeString",
   "alias": "Copyright",
   "domain": null,
   "length": 10
  }
 ],
 "capabilities": "Catalog,Pixels,Image,Metadata",
 "defaultMosaicMethod": "Northwest",
 "allowedMosaicMethods": "NorthWest,ByAttribute",
 "sortField": "",
 "sortValue": null,
 "sortAscending": true,
 "mosaicOperator": "First",
 "maxDownloadSizeLimit": 0,
 "defaultCompressionQuality": 75,
 "defaultResamplingMethod": "Bilinear",
 "maxImageHeight": 4100,
 "maxImageWidth": 15000,
 "maxRecordCount": 1000,
 "maxDownloadImageCount": 0,
 "maxMosaicImageCount": 20,
 "allowRasterFunction": true,
 "rasterFunctionInfos": [
  {
   "name": "None",
   "description": "A No-Op Function.",
   "help": ""
  }
 ],
 "rasterTypeInfos": [
  {
   "name": "Raster Dataset",
   "description": "Supports all ArcGIS Raster Datasets",
   "help": ""
  }
 ],
 "mensurationCapabilities": "None",
 "hasHistograms": true,
 "hasColormap": false,
 "hasRasterAttributeTable": false,
 "minScale": 0,
 "maxScale": 0,
 "exportTilesAllowed": false,
 "supportsStatistics": true,
 "supportsAdvancedQueries": true,
 "editFieldsInfo": null,
 "ownershipBasedAccessControlForRasters": null,
 "allowComputeTiePoints": false,
 "useStandardizedQueries": true,
 "advancedQueryCapabilities": {
  "useStandardizedQueries": true,
  "supportsStatistics": true,
  "supportsOrderBy": true,
  "supportsDistinct": true,
  "supportsPagination": true
 },
 "spatialReference": {
  "wkid": 4326,
  "latestWkid": 4326
 },
 "resampling": false
}
