View In:
ArcGIS JavaScript
ArcGIS Online Map Viewer
ArcGIS Earth
Service Description: Arena Project: Fish, Wildlife and Lands has acquired LiDAR data for a 218.4 square kilometer area around Consul, Saskatchewan. This data was collected using the Riegl Q1560 LiDAR system with a 400kHz pulse rate, a point density of 25 per square meter, and a maximum of 4 returns collected. The LiDAR system was at a flying height of 550 meters with a speed of 140 knots, a scan angle of 60 degrees, and a 50% side lap. The Bare Earth DEM delivery is derived form this data. Other deliverables include ASCII, Binary, Hillshade, Intensity, and Orthophotos.
Great Sand Hills Project: The Planning and Evaluation Branch of the Ministry of Environment has acquired LiDAR data with all returns for the Great Sand Hills. The Bare Earth DEM delivery is a resampled product derived from this data. Other deliverables include Orthophotos.
Name: All_LiDAR_BareEarth
Description: Arena Project: Fish, Wildlife and Lands has acquired LiDAR data for a 218.4 square kilometer area around Consul, Saskatchewan. This data was collected using the Riegl Q1560 LiDAR system with a 400kHz pulse rate, a point density of 25 per square meter, and a maximum of 4 returns collected. The LiDAR system was at a flying height of 550 meters with a speed of 140 knots, a scan angle of 60 degrees, and a 50% side lap. The Bare Earth DEM delivery is derived form this data. Other deliverables include ASCII, Binary, Hillshade, Intensity, and Orthophotos.
Great Sand Hills Project: The Planning and Evaluation Branch of the Ministry of Environment has acquired LiDAR data with all returns for the Great Sand Hills. The Bare Earth DEM delivery is a resampled product derived from this data. Other deliverables include Orthophotos.
Single Fused Map Cache: false
Extent:
XMin: 181084.84410000034
YMin: 5435461.9081
XMax: 234808.34410000034
YMax: 5635689.9081
Spatial Reference: 2151
(2957)
LatestVCSWkid(0)
Initial Extent:
XMin: 181084.84410000034
YMin: 5435461.9081
XMax: 234808.34410000034
YMax: 5635689.9081
Spatial Reference: 2151
(2957)
LatestVCSWkid(0)
Full Extent:
XMin: 181084.84410000034
YMin: 5435461.9081
XMax: 234808.34410000034
YMax: 5635689.9081
Spatial Reference: 2151
(2957)
LatestVCSWkid(0)
Pixel Size X: 0.5
Pixel Size Y: 0.5
Band Count: 1
Pixel Type: F32
RasterFunction Infos: {"rasterFunctionInfos": [
{
"name": "None",
"description": "A No-Op Function.",
"help": ""
},
{
"name": "Hillshade Function_2018124_234826_639",
"description": "A raster function template.",
"help": ""
}
]}
Mensuration Capabilities: Basic
Inspection Capabilities:
Has Histograms: true
Has Colormap: false
Has Multi Dimensions : false
Rendering Rule:
Min Scale: 0
Max Scale: 0
Resampling: false
Copyright Text: Ministry of Environment, Fish, Wildlife and Lands Branch, Planning and Evaluation Branch
Service Data Type: esriImageServiceDataTypeGeneric
Min Values: 651.2949829101562
Max Values: 951.449462890625
Mean Values: 723.1577892199135
Standard Deviation Values: 50.79028880866013
Object ID Field: OBJECTID
Fields:
-
OBJECTID
(
type: esriFieldTypeOID, alias: OBJECTID
)
-
Shape
(
type: esriFieldTypeGeometry, alias: Shape
)
-
Name
(
type: esriFieldTypeString, alias: Name, length: 200
)
-
Category
(
type: esriFieldTypeInteger, alias: Category
, Coded Values:
[0: Unknown]
, [1: Primary]
, [2: Overview]
, ...6 more...
)
-
Source
(
type: esriFieldTypeString, alias: Source, length: 50
)
-
Year_of_Data
(
type: esriFieldTypeSmallInteger, alias: Year_of_Data
)
-
Date_of_Data
(
type: esriFieldTypeDate, alias: Date_of_Data, length: 8
)
-
Accuracy
(
type: esriFieldTypeString, alias: Accuracy, length: 50
)
-
Resolution
(
type: esriFieldTypeSingle, alias: Resolution
)
-
Project_Area_Name
(
type: esriFieldTypeString, alias: Project_Area_Name, length: 50
)
-
Copyright
(
type: esriFieldTypeString, alias: Copyright, length: 10
)
Default Mosaic Method: Northwest
Allowed Mosaic Methods: NorthWest,ByAttribute
SortField:
SortValue: null
Mosaic Operator: First
Default Compression Quality: 75
Default Resampling Method: Bilinear
Max Record Count: 1000
Max Image Height: 4100
Max Image Width: 15000
Max Download Image Count: 0
Max Mosaic Image Count: 20
Allow Raster Function: true
Allow Copy: true
Allow Analysis: true
Allow Compute TiePoints: false
Supports Statistics: true
Supports Advanced Queries: true
Use StandardizedQueries: true
Raster Type Infos:
Name: Raster Dataset
Description: Supports all ArcGIS Raster Datasets
Help:
Has Raster Attribute Table: false
Edit Fields Info: null
Ownership Based AccessControl For Rasters: null
Child Resources:
Info
Histograms
Statistics
Key Properties
Legend
Raster Function Infos
Supported Operations:
Export Image
Query
Identify
Compute Histograms
Compute Statistics Histograms
Get Samples
Compute Class Statistics
Query GPS Info
Find Images
Image to Map
Map to Image
Measure from Image
Image to Map Multiray
Query Boundary
Compute Pixel Location
Compute Angles
Validate
Project