View In:
ArcGIS JavaScript
ArcGIS Online Map Viewer
ArcGIS Earth
Service Description: Woodland caribou habitat potential within the provincial forest of central and northern Saskatchewan has been identified by Saskatchewan, using a forest ecosite geographic information system layer which has been mapped for the area. Forest ecosites represent information about a site’s tree species, plant-abundance and soil and site characteristics (McLaughlan et al., 2010). Forest ecosite habitat potential ranks were assigned by individually evaluating the ecosite’s potential to provide forage, refuge and calving habitat. Forage value was rated based on the availability of lichen and other plant species, which are palatable to caribou (Thomas and Armbruster, 1996).Refuge value was rated based on the availability of plant species which provide food value for other ungulates (e.g. moose, deer, elk). This was used as a surrogate for the probability of predation. If these food sources are not present, the ecosite has potential to provide refuge for caribou from predators. Calving and post-calving ratings were made in consideration of both the time of calving and the following two to four-week period. The primary consideration was safety from predation. The related factors considered were the ability to hide a calf and the lack of spring black bear forage. A secondary consideration was whether there was caribou forage available on the site.Ecosite rankings were completed by a panel of biologists with expertise on woodland caribou habitat use in Saskatchewan. Forest ecosites were mapped with the assigned habitat potential value.
Name: CaribouHabitatPotential
Description: Woodland caribou habitat potential within the provincial forest of central and northern Saskatchewan has been identified by Saskatchewan, using a forest ecosite geographic information system layer which has been mapped for the area. Forest ecosites represent information about a site’s tree species, plant-abundance and soil and site characteristics (McLaughlan et al., 2010). Forest ecosite habitat potential ranks were assigned by individually evaluating the ecosite’s potential to provide forage, refuge and calving habitat. Forage value was rated based on the availability of lichen and other plant species, which are palatable to caribou (Thomas and Armbruster, 1996).Refuge value was rated based on the availability of plant species which provide food value for other ungulates (e.g. moose, deer, elk). This was used as a surrogate for the probability of predation. If these food sources are not present, the ecosite has potential to provide refuge for caribou from predators. Calving and post-calving ratings were made in consideration of both the time of calving and the following two to four-week period. The primary consideration was safety from predation. The related factors considered were the ability to hide a calf and the lack of spring black bear forage. A secondary consideration was whether there was caribou forage available on the site.Ecosite rankings were completed by a panel of biologists with expertise on woodland caribou habitat use in Saskatchewan. Forest ecosites were mapped with the assigned habitat potential value.
Single Fused Map Cache: false
Extent:
XMin: 134000.0
YMin: 5427000.816
XMax: 766020.0
YMax: 6661910.816
Spatial Reference: 0
(0)
LatestVCSWkid(0)
Initial Extent:
XMin: 134000.0
YMin: 5427000.816
XMax: 766020.0
YMax: 6661910.816
Spatial Reference: 0
(0)
LatestVCSWkid(0)
Full Extent:
XMin: 134000.0
YMin: 5427000.816
XMax: 766020.0
YMax: 6661910.816
Spatial Reference: 0
(0)
LatestVCSWkid(0)
Pixel Size X: 10.0
Pixel Size Y: 10.0
Band Count: 1
Pixel Type: U8
RasterFunction Infos: {"rasterFunctionInfos": [
{
"name": "Caribou Habitat Potential Colormap",
"description": "A raster function template.",
"help": ""
},
{
"name": "None",
"description": "Make a Raster or Raster Dataset into a Function Raster Dataset.",
"help": ""
}
]}
Mensuration Capabilities: Basic
Inspection Capabilities:
Has Histograms: true
Has Colormap: false
Has Multi Dimensions : false
Rendering Rule:
Min Scale: 0
Max Scale: 0
Resampling: false
Copyright Text: Lands Branch, Ministry of Environment
Service Data Type: esriImageServiceDataTypeGeneric
Min Values: 0
Max Values: 255
Mean Values: 4.798791362214278
Standard Deviation Values: 31.009611452782167
Object ID Field: OBJECTID
Fields:
-
OBJECTID
(
type: esriFieldTypeOID, alias: OBJECTID
)
-
Shape
(
type: esriFieldTypeGeometry, alias: Shape
)
-
Name
(
type: esriFieldTypeString, alias: Name, length: 200
)
-
Category
(
type: esriFieldTypeInteger, alias: Category
, Coded Values:
[0: Unknown]
, [1: Primary]
, [2: Overview]
, ...6 more...
)
-
Resolution
(
type: esriFieldTypeSmallInteger, alias: Resolution
)
Default Mosaic Method: Northwest
Allowed Mosaic Methods: NorthWest,ByAttribute
SortField:
SortValue: null
Mosaic Operator: First
Default Compression Quality: 75
Default Resampling Method: Nearest
Max Record Count: 1000
Max Image Height: 4100
Max Image Width: 15000
Max Download Image Count: 0
Max Mosaic Image Count: 20
Allow Raster Function: true
Allow Copy: true
Allow Analysis: true
Allow Compute TiePoints: false
Supports Statistics: true
Supports Advanced Queries: true
Use StandardizedQueries: true
Raster Type Infos:
Name: Raster Dataset
Description: Supports all ArcGIS Raster Datasets
Help:
Has Raster Attribute Table: false
Edit Fields Info: null
Ownership Based AccessControl For Rasters: null
Child Resources:
Info
Histograms
Statistics
Key Properties
Legend
Raster Function Infos
Supported Operations:
Export Image
Query
Identify
Measure
Compute Histograms
Compute Statistics Histograms
Get Samples
Compute Class Statistics
Query GPS Info
Find Images
Image to Map
Map to Image
Measure from Image
Image to Map Multiray
Query Boundary
Compute Pixel Location
Compute Angles
Validate
Project