View In:
ArcGIS JavaScript
ArcGIS Online Map Viewer
ArcGIS Earth
Service Description: The SGIC Orthophotography Project provides seamless, accurate province wide ortho-rectified nadir aerial photography and elevation data of the earth's surface for use in geographic information systems (GIS). The program intends to acquire imagery with a 100 metre buffer beyond the provincial border. The color orthophotos are pre-mosaiced then cut into township tiles before being delivered to the collaborative. Color infrared imagery, RAW images, AT files and a digital elevation model also exist for this area of imagery. The Saskatchewan Geospatial Imagery Collaborative (SGIC) was formed to acquire new aerial photography and satellite imagery of the province. The SGIC is made up of 29 participating organizations including Provincial Government, Crown Corporations, Municipalities, Federal Government, Universities, First Nations, Community Organizations, and Industry. A current list of SGIC members can be found on the imagery access website at www.flysask.ca.
Name: SGIC_Public_Orthophotos
Description: The SGIC Orthophotography Project provides seamless, accurate province wide ortho-rectified nadir aerial photography and elevation data of the earth's surface for use in geographic information systems (GIS). The program intends to acquire imagery with a 100 metre buffer beyond the provincial border. The color orthophotos are pre-mosaiced then cut into township tiles before being delivered to the collaborative. Color infrared imagery, RAW images, AT files and a digital elevation model also exist for this area of imagery. The Saskatchewan Geospatial Imagery Collaborative (SGIC) was formed to acquire new aerial photography and satellite imagery of the province. The SGIC is made up of 29 participating organizations including Provincial Government, Crown Corporations, Municipalities, Federal Government, Universities, First Nations, Community Organizations, and Industry. A current list of SGIC members can be found on the imagery access website at www.flysask.ca.
Single Fused Map Cache: false
Extent:
XMin: 133719.9922000002
YMin: 5427344.227446125
XMax: 766090.7900503365
YMax: 6661937.5
Spatial Reference: 2151
(2957)
LatestVCSWkid(0)
Initial Extent:
XMin: 133719.9922000002
YMin: 5427344.227446125
XMax: 766090.7900503365
YMax: 6661937.5
Spatial Reference: 2151
(2957)
LatestVCSWkid(0)
Full Extent:
XMin: 133719.9922000002
YMin: 5427344.227446125
XMax: 766090.7900503365
YMax: 6661937.5
Spatial Reference: 2151
(2957)
LatestVCSWkid(0)
Time Info:
Start Time Field: Year_of_Data
End Time Field: Year_of_Data
Time Extent:
[2008/01/01 00:00:00 UTC, 2022/01/01 00:00:00 UTC]
Time Reference:
N/A
Pixel Size X: 0.39999367333754365
Pixel Size Y: 0.3999936733375436
Band Count: 4
Pixel Type: U8
RasterFunction Infos: {"rasterFunctionInfos": [{
"name": "None",
"description": "A No-Op Function.",
"help": ""
}]}
Mensuration Capabilities:
Inspection Capabilities:
Has Histograms: false
Has Colormap: false
Has Multi Dimensions : false
Rendering Rule:
Min Scale: 0
Max Scale: 0
Resampling: false
Copyright Text: Saskatchewan Geospatial Imagery Collaborative (SGIC)
Service Data Type: esriImageServiceDataTypeGeneric
Min Values: N/A
Max Values: N/A
Mean Values: N/A
Standard Deviation Values: N/A
Object ID Field: OBJECTID
Fields:
-
OBJECTID
(
type: esriFieldTypeOID, alias: OBJECTID
)
-
Shape
(
type: esriFieldTypeGeometry, alias: Shape
)
-
Name
(
type: esriFieldTypeString, alias: Name, length: 200
)
-
Category
(
type: esriFieldTypeInteger, alias: Category
, Coded Values:
[0: Unknown]
, [1: Primary]
, [2: Overview]
, ...6 more...
)
-
Source
(
type: esriFieldTypeString, alias: Source, length: 50
)
-
Year_of_Data
(
type: esriFieldTypeSmallInteger, alias: Year_of_Data
)
-
Date_of_Data
(
type: esriFieldTypeDate, alias: Date_of_Data, length: 8
)
-
Accuracy
(
type: esriFieldTypeString, alias: Accuracy, length: 50
)
-
Resolution
(
type: esriFieldTypeSingle, alias: Resolution
)
-
Project_Area_Name
(
type: esriFieldTypeString, alias: Project_Area_Name, length: 50
)
Default Mosaic Method: Northwest
Allowed Mosaic Methods: NorthWest,ByAttribute
SortField:
SortValue: null
Mosaic Operator: First
Default Compression Quality: 75
Default Resampling Method: Bilinear
Max Record Count: 1000
Max Image Height: 4100
Max Image Width: 15000
Max Download Image Count: 0
Max Mosaic Image Count: 200
Allow Raster Function: true
Allow Copy: true
Allow Analysis: true
Allow Compute TiePoints: false
Supports Statistics: true
Supports Advanced Queries: true
Use StandardizedQueries: true
Raster Type Infos:
Name: Raster Dataset
Description: Supports all ArcGIS Raster Datasets
Help:
Has Raster Attribute Table: false
Edit Fields Info: null
Ownership Based AccessControl For Rasters: null
Child Resources:
Info
Statistics
Key Properties
Legend
Raster Function Infos
Supported Operations:
Export Image
Query
Identify
Compute Histograms
Compute Statistics Histograms
Get Samples
Compute Class Statistics
Query GPS Info
Find Images
Image to Map
Map to Image
Measure from Image
Image to Map Multiray
Query Boundary
Compute Pixel Location
Compute Angles
Validate
Project