View In:
ArcGIS JavaScript
ArcGIS Online Map Viewer
ArcGIS Earth
Service Description: PAFMA 2011 Project: The Forest Service Branch of the Ministry of Environment acquired orthorectified RGB air photos in August 2011 to assess plough wind damage. These air photos were taken with a medium-format digital Trimble Aerial Camera (TAC) with a 60 Megapixel sensor (8984 x 6732 6u pixels) and 47mm lens. Average flying height was 3130 metres AGL.
Name: ForestService_Orthos_RGB
Description: PAFMA 2011 Project: The Forest Service Branch of the Ministry of Environment acquired orthorectified RGB air photos in August 2011 to assess plough wind damage. These air photos were taken with a medium-format digital Trimble Aerial Camera (TAC) with a 60 Megapixel sensor (8984 x 6732 6u pixels) and 47mm lens. Average flying height was 3130 metres AGL.
Single Fused Map Cache: false
Extent:
XMin: 301661.25549999997
YMin: 5969998.6999
XMax: 460000.855499999
YMax: 6079999.0999
Spatial Reference: 2151
(2957)
LatestVCSWkid(0)
Initial Extent:
XMin: 301661.25549999997
YMin: 5969998.6999
XMax: 460000.855499999
YMax: 6079999.0999
Spatial Reference: 2151
(2957)
LatestVCSWkid(0)
Full Extent:
XMin: 301661.25549999997
YMin: 5969998.6999
XMax: 460000.855499999
YMax: 6079999.0999
Spatial Reference: 2151
(2957)
LatestVCSWkid(0)
Pixel Size X: 0.3999999999999976
Pixel Size Y: 0.39999999999999797
Band Count: 3
Pixel Type: U8
RasterFunction Infos: {"rasterFunctionInfos": [{
"name": "None",
"description": "A No-Op Function.",
"help": ""
}]}
Mensuration Capabilities: Basic
Inspection Capabilities:
Has Histograms: false
Has Colormap: false
Has Multi Dimensions : false
Rendering Rule:
Min Scale: 0
Max Scale: 0
Resampling: false
Copyright Text: Ministry of Environment, Forest Service
Service Data Type: esriImageServiceDataTypeRGB
Min Values: N/A
Max Values: N/A
Mean Values: N/A
Standard Deviation Values: N/A
Object ID Field: OBJECTID
Fields:
-
OBJECTID
(
type: esriFieldTypeOID, alias: OBJECTID
)
-
Shape
(
type: esriFieldTypeGeometry, alias: Shape
)
-
Name
(
type: esriFieldTypeString, alias: Name, length: 200
)
-
Category
(
type: esriFieldTypeInteger, alias: Category
, Coded Values:
[0: Unknown]
, [1: Primary]
, [2: Overview]
, ...6 more...
)
-
Source
(
type: esriFieldTypeString, alias: Source, length: 50
)
-
Year_of_Data
(
type: esriFieldTypeSmallInteger, alias: Year_of_Data
)
-
Date_of_Data
(
type: esriFieldTypeDate, alias: Date_of_Data, length: 8
)
-
Accuracy
(
type: esriFieldTypeString, alias: Accuracy, length: 50
)
-
Resolution
(
type: esriFieldTypeSingle, alias: Resolution
)
-
Project_Area_Name
(
type: esriFieldTypeString, alias: Project_Area_Name, length: 50
)
-
Copyright
(
type: esriFieldTypeString, alias: Copyright, length: 10
)
Default Mosaic Method: Northwest
Allowed Mosaic Methods: NorthWest,ByAttribute
SortField:
SortValue: null
Mosaic Operator: First
Default Compression Quality: 75
Default Resampling Method: Bilinear
Max Record Count: 1000
Max Image Height: 4100
Max Image Width: 15000
Max Download Image Count: 0
Max Mosaic Image Count: 20
Allow Raster Function: true
Allow Copy: true
Allow Analysis: true
Allow Compute TiePoints: false
Supports Statistics: true
Supports Advanced Queries: true
Use StandardizedQueries: true
Raster Type Infos:
Name: Raster Dataset
Description: Supports all ArcGIS Raster Datasets
Help:
Has Raster Attribute Table: false
Edit Fields Info: null
Ownership Based AccessControl For Rasters: null
Child Resources:
Info
Statistics
Key Properties
Legend
Raster Function Infos
Supported Operations:
Export Image
Query
Identify
Compute Histograms
Compute Statistics Histograms
Get Samples
Compute Class Statistics
Query GPS Info
Find Images
Image to Map
Map to Image
Measure from Image
Image to Map Multiray
Query Boundary
Compute Pixel Location
Compute Angles
Validate
Project