View In:
ArcGIS JavaScript
ArcGIS Online Map Viewer
ArcGIS Earth
Service Description: Contracts commissioned by the Saskatchewan Geospatial Imagery Collaborative (SGIC) delivered both 3-band and 4-band imagery. This mosaic combines all public imagery from the various contracts as a preformatted 3-band CIR product. The imagery consists of orthorectified and raw aerial photos. Orthorectified images can either be pre-mosaicked from multiple camera frames and cut by township or non-pre-mosaicked and not cut by township. Raws are multiple camera frames that have not gone through orthorectification. More information can be found at www.flysask2.ca.
Name: SGIC_Public_CIR
Description: Contracts commissioned by the Saskatchewan Geospatial Imagery Collaborative (SGIC) delivered both 3-band and 4-band imagery. This mosaic combines all public imagery from the various contracts as a preformatted 3-band CIR product. The imagery consists of orthorectified and raw aerial photos. Orthorectified images can either be pre-mosaicked from multiple camera frames and cut by township or non-pre-mosaicked and not cut by township. Raws are multiple camera frames that have not gone through orthorectification. More information can be found at www.flysask2.ca.
Single Fused Map Cache: false
Extent:
XMin: 133720.04974689346
YMin: 5423210.028201597
XMax: 770042.3850961314
YMax: 6661937.635363089
Spatial Reference: 2151
(2957)
LatestVCSWkid(0)
Initial Extent:
XMin: 133720.04974689346
YMin: 5423210.028201597
XMax: 770042.3850961314
YMax: 6661937.635363089
Spatial Reference: 2151
(2957)
LatestVCSWkid(0)
Full Extent:
XMin: 133720.04974689346
YMin: 5423210.028201597
XMax: 770042.3850961314
YMax: 6661937.635363089
Spatial Reference: 2151
(2957)
LatestVCSWkid(0)
Time Info:
Start Time Field: Year_of_Data
End Time Field: Year_of_Data
Time Extent:
[2007/01/01 00:00:00 UTC, 2016/01/01 00:00:00 UTC]
Time Reference:
N/A
Pixel Size X: 0.39999367333754365
Pixel Size Y: 0.39999367333754365
Band Count: 3
Pixel Type: U8
RasterFunction Infos: {"rasterFunctionInfos": [{
"name": "None",
"description": "A No-Op Function.",
"help": ""
}]}
Mensuration Capabilities: Basic
Inspection Capabilities:
Has Histograms: false
Has Colormap: false
Has Multi Dimensions : false
Rendering Rule:
Min Scale: 0
Max Scale: 0
Copyright Text: Saskatchewan Geospatial Imagery Collaborative (SGIC)
Service Data Type: esriImageServiceDataTypeRGB
Min Values: N/A
Max Values: N/A
Mean Values: N/A
Standard Deviation Values: N/A
Object ID Field: OBJECTID
Fields:
-
OBJECTID
(
type: esriFieldTypeOID, alias: OBJECTID
)
-
Shape
(
type: esriFieldTypeGeometry, alias: Shape
)
-
Name
(
type: esriFieldTypeString, alias: Name, length: 200
)
-
Category
(
type: esriFieldTypeInteger, alias: Category
, Coded Values:
[0: Unknown]
, [1: Primary]
, [2: Overview]
, ...6 more...
)
-
Source
(
type: esriFieldTypeString, alias: Source, length: 50
)
-
Year_of_Data
(
type: esriFieldTypeSmallInteger, alias: Year_of_Data
)
-
Date_of_Data
(
type: esriFieldTypeDate, alias: Date_of_Data, length: 8
)
-
Accuracy
(
type: esriFieldTypeString, alias: Accuracy, length: 50
)
-
Resolution
(
type: esriFieldTypeSingle, alias: Resolution
)
-
Project_Area_Name
(
type: esriFieldTypeString, alias: Project_Area_Name, length: 50
)
-
Copyright
(
type: esriFieldTypeString, alias: Copyright, length: 10
)
Default Mosaic Method: ByAttribute
Allowed Mosaic Methods: ByAttribute
SortField: Year_of_Data
SortValue: 0
Mosaic Operator: First
Default Compression Quality: 75
Default Resampling Method: Bilinear
Max Record Count: 1000
Max Image Height: 4100
Max Image Width: 15000
Max Download Image Count: 0
Max Mosaic Image Count: 100
Allow Raster Function: true
Allow Copy: true
Allow Analysis: true
Allow Compute TiePoints: false
Supports Statistics: true
Supports Advanced Queries: true
Use StandardizedQueries: true
Raster Type Infos:
Name: Raster Dataset
Description: Supports all ArcGIS Raster Datasets
Help:
Has Raster Attribute Table: false
Edit Fields Info: null
Ownership Based AccessControl For Rasters: null
Child Resources:
Info
Statistics
Key Properties
Legend
Raster Function Infos
Supported Operations:
Export Image
Query
Identify
Compute Histograms
Compute Statistics Histograms
Get Samples
Compute Class Statistics
Query GPS Info
Find Images
Image to Map
Map to Image
Measure from Image
Image to Map Multiray
Query Boundary
Compute Pixel Location
Compute Angles
Validate
Project