View In:
ArcGIS JavaScript
ArcGIS Online Map Viewer
ArcGIS Earth
Service Description: Contracts commissioned by the Saskatchewan Geospatial Imagery Collaborative (SGIC) delivered DEM data. This mosaic combines all public DEM data from various contracts at resolutions of 4, 30, and 50.
Name: SGIC_Public_DEM
Description: Contracts commissioned by the Saskatchewan Geospatial Imagery Collaborative (SGIC) delivered DEM data. This mosaic combines all public DEM data from various contracts at resolutions of 4, 30, and 50.
Single Fused Map Cache: false
Extent:
XMin: 135242.3604100513
YMin: 5427340.5177100105
XMax: 766085.6775099982
YMax: 6655155.970269907
Spatial Reference: 2151
(2957)
LatestVCSWkid(0)
Initial Extent:
XMin: 135242.3604100513
YMin: 5427340.5177100105
XMax: 766085.6775099982
YMax: 6655155.970269907
Spatial Reference: 2151
(2957)
LatestVCSWkid(0)
Full Extent:
XMin: 135242.3604100513
YMin: 5427340.5177100105
XMax: 766085.6775099982
YMax: 6655155.970269907
Spatial Reference: 2151
(2957)
LatestVCSWkid(0)
Time Info:
Start Time Field: Year_of_Data
End Time Field: Year_of_Data
Time Extent:
[2008/01/01 00:00:00 UTC, 2016/01/01 00:00:00 UTC]
Time Reference:
N/A
Pixel Size X: 4.960629999999583
Pixel Size Y: 4.960629999999583
Band Count: 1
Pixel Type: S16
RasterFunction Infos: {"rasterFunctionInfos": [{
"name": "None",
"description": "A No-Op Function.",
"help": ""
}]}
Mensuration Capabilities: Basic
Inspection Capabilities:
Has Histograms: true
Has Colormap: false
Has Multi Dimensions : false
Rendering Rule:
Min Scale: 0
Max Scale: 0
Copyright Text: Saskatchewan Geospatial Imagery Collaborative (SGIC)
Service Data Type: esriImageServiceDataTypeGeneric
Min Values: 209
Max Values: 1384
Mean Values: 543.3979454292894
Standard Deviation Values: 148.55224395597216
Object ID Field: OBJECTID
Fields:
-
OBJECTID
(
type: esriFieldTypeOID, alias: OBJECTID
)
-
Shape
(
type: esriFieldTypeGeometry, alias: Shape
)
-
Name
(
type: esriFieldTypeString, alias: Name, length: 200
)
-
Category
(
type: esriFieldTypeInteger, alias: Category
, Coded Values:
[0: Unknown]
, [1: Primary]
, [2: Overview]
, ...6 more...
)
-
Source
(
type: esriFieldTypeString, alias: Source, length: 50
)
-
Year_of_Data
(
type: esriFieldTypeSmallInteger, alias: Year_of_Data
)
-
Date_of_Data
(
type: esriFieldTypeDate, alias: Date_of_Data, length: 8
)
-
Accuracy
(
type: esriFieldTypeString, alias: Accuracy, length: 50
)
-
Resolution
(
type: esriFieldTypeSingle, alias: Resolution
)
-
Project_Area_Name
(
type: esriFieldTypeString, alias: Project_Area_Name, length: 50
)
-
Copyright
(
type: esriFieldTypeString, alias: Copyright, length: 10
)
Default Mosaic Method: Northwest
Allowed Mosaic Methods: NorthWest,ByAttribute
SortField:
SortValue: null
Mosaic Operator: First
Default Compression Quality: 75
Default Resampling Method: Bilinear
Max Record Count: 1000
Max Image Height: 4100
Max Image Width: 15000
Max Download Image Count: 0
Max Mosaic Image Count: 150
Allow Raster Function: true
Allow Copy: true
Allow Analysis: true
Allow Compute TiePoints: false
Supports Statistics: true
Supports Advanced Queries: true
Use StandardizedQueries: true
Raster Type Infos:
Name: Raster Dataset
Description: Supports all ArcGIS Raster Datasets
Help:
Has Raster Attribute Table: false
Edit Fields Info: null
Ownership Based AccessControl For Rasters: null
Child Resources:
Info
Histograms
Statistics
Key Properties
Legend
Raster Function Infos
Supported Operations:
Export Image
Query
Identify
Compute Histograms
Compute Statistics Histograms
Get Samples
Compute Class Statistics
Query GPS Info
Find Images
Image to Map
Map to Image
Measure from Image
Image to Map Multiray
Query Boundary
Compute Pixel Location
Compute Angles
Validate
Project