View In:
ArcGIS JavaScript
ArcGIS Online Map Viewer
ArcGIS Earth
Service Description: The Shuttle Radar Topography Mission (SRTM) aboard Endeavour was launched February 11, 2000 for an international project between the National Aeronautics and Space Administration (NASA), the National Geospatial-Intelligence Agency (NGA), the German and Italian space agencies. Endeavour orbited Earth 16 times each day during the 11 day SRTM. Radar data was collected for over 80% of the Earth’s surface between 60N and 56S. The radars used during the SRTM mission were flown on Endeavour missions in 1994. The C-band Spaceborne Imaging Radar and the X-Band Synthetic Aperture Radar (X-SAR). The technology was modified for the SRTM mission to collect interferometric radar. This mission used single-pass interferometry, which acquired two signals at the same time by using two different radar antennas. An antenna located on board the space shuttle collected one data set and the other data set was collected by an antenna located at the end of a 60-meter mast that extended from the shuttle. Differences between the two signals allowed for the calculation of surface elevation.
Name: ShuttleRadarTopoMission_1arcsec
Description: The Shuttle Radar Topography Mission (SRTM) aboard Endeavour was launched February 11, 2000 for an international project between the National Aeronautics and Space Administration (NASA), the National Geospatial-Intelligence Agency (NGA), the German and Italian space agencies. Endeavour orbited Earth 16 times each day during the 11 day SRTM. Radar data was collected for over 80% of the Earth’s surface between 60N and 56S. The radars used during the SRTM mission were flown on Endeavour missions in 1994. The C-band Spaceborne Imaging Radar and the X-Band Synthetic Aperture Radar (X-SAR). The technology was modified for the SRTM mission to collect interferometric radar. This mission used single-pass interferometry, which acquired two signals at the same time by using two different radar antennas. An antenna located on board the space shuttle collected one data set and the other data set was collected by an antenna located at the end of a 60-meter mast that extended from the shuttle. Differences between the two signals allowed for the calculation of surface elevation.
Single Fused Map Cache: false
Extent:
XMin: -112.00027777799994
YMin: 47.99986111122229
XMax: -100.99972222244442
YMax: 60.00013888900003
Spatial Reference: 4326
(4326)
LatestVCSWkid(0)
Initial Extent:
XMin: -112.00027777799994
YMin: 47.99986111122229
XMax: -100.99972222244442
YMax: 60.00013888900003
Spatial Reference: 4326
(4326)
LatestVCSWkid(0)
Full Extent:
XMin: -112.00027777799994
YMin: 47.99986111122229
XMax: -100.99972222244442
YMax: 60.00013888900003
Spatial Reference: 4326
(4326)
LatestVCSWkid(0)
Pixel Size X: 2.777777777777769E-4
Pixel Size Y: 2.777777777777769E-4
Band Count: 1
Pixel Type: S16
RasterFunction Infos: {"rasterFunctionInfos": [{
"name": "None",
"description": "A No-Op Function.",
"help": ""
}]}
Mensuration Capabilities: None
Inspection Capabilities:
Has Histograms: true
Has Colormap: false
Has Multi Dimensions : false
Rendering Rule:
Min Scale: 0
Max Scale: 0
Resampling: false
Copyright Text: National Aeronautics and Space Administration (NASA) and National Geospatial-Intelligence Agency (NGA)
Service Data Type: esriImageServiceDataTypeGeneric
Min Values: 169
Max Values: 2029
Mean Values: 528.1703805329744
Standard Deviation Values: 173.4806975692599
Object ID Field: OBJECTID
Fields:
-
OBJECTID
(
type: esriFieldTypeOID, alias: OBJECTID
)
-
Shape
(
type: esriFieldTypeGeometry, alias: Shape
)
-
Name
(
type: esriFieldTypeString, alias: Name, length: 200
)
-
Category
(
type: esriFieldTypeInteger, alias: Category
, Coded Values:
[0: Unknown]
, [1: Primary]
, [2: Overview]
, ...6 more...
)
-
Source
(
type: esriFieldTypeString, alias: Source, length: 50
)
-
Year_of_Data
(
type: esriFieldTypeSmallInteger, alias: Year_of_Data
)
-
Date_of_Data
(
type: esriFieldTypeDate, alias: Date_of_Data, length: 8
)
-
Accuracy
(
type: esriFieldTypeString, alias: Accuracy, length: 100
)
-
Resolution
(
type: esriFieldTypeSingle, alias: Resolution
)
-
Project_Area_Name
(
type: esriFieldTypeString, alias: Project_Area_Name, length: 50
)
-
Copyright
(
type: esriFieldTypeString, alias: Copyright, length: 10
)
Default Mosaic Method: Northwest
Allowed Mosaic Methods: NorthWest,ByAttribute
SortField:
SortValue: null
Mosaic Operator: First
Default Compression Quality: 75
Default Resampling Method: Bilinear
Max Record Count: 1000
Max Image Height: 4100
Max Image Width: 15000
Max Download Image Count: 0
Max Mosaic Image Count: 20
Allow Raster Function: true
Allow Copy: true
Allow Analysis: true
Allow Compute TiePoints: false
Supports Statistics: true
Supports Advanced Queries: true
Use StandardizedQueries: true
Raster Type Infos:
Name: Raster Dataset
Description: Supports all ArcGIS Raster Datasets
Help:
Has Raster Attribute Table: false
Edit Fields Info: null
Ownership Based AccessControl For Rasters: null
Child Resources:
Info
Histograms
Statistics
Key Properties
Legend
Raster Function Infos
Supported Operations:
Export Image
Query
Identify
Compute Histograms
Compute Statistics Histograms
Get Samples
Compute Class Statistics
Query GPS Info
Find Images
Image to Map
Map to Image
Measure from Image
Image to Map Multiray
Query Boundary
Compute Pixel Location
Compute Angles
Validate
Project